BEGIN:VCALENDAR
VERSION:2.0
PRODID:-//Winkler EMMC - ECPv6.15.10//NONSGML v1.0//EN
CALSCALE:GREGORIAN
METHOD:PUBLISH
X-ORIGINAL-URL:https://www.winkleremmc.com
X-WR-CALDESC:Events for Winkler EMMC
REFRESH-INTERVAL;VALUE=DURATION:PT1H
X-Robots-Tag:noindex
X-PUBLISHED-TTL:PT1H
BEGIN:VTIMEZONE
TZID:America/Winnipeg
BEGIN:DAYLIGHT
TZOFFSETFROM:-0600
TZOFFSETTO:-0500
TZNAME:CDT
DTSTART:20250309T080000
END:DAYLIGHT
BEGIN:STANDARD
TZOFFSETFROM:-0500
TZOFFSETTO:-0600
TZNAME:CST
DTSTART:20251102T070000
END:STANDARD
BEGIN:DAYLIGHT
TZOFFSETFROM:-0600
TZOFFSETTO:-0500
TZNAME:CDT
DTSTART:20260308T080000
END:DAYLIGHT
BEGIN:STANDARD
TZOFFSETFROM:-0500
TZOFFSETTO:-0600
TZNAME:CST
DTSTART:20261101T070000
END:STANDARD
BEGIN:DAYLIGHT
TZOFFSETFROM:-0600
TZOFFSETTO:-0500
TZNAME:CDT
DTSTART:20270314T080000
END:DAYLIGHT
BEGIN:STANDARD
TZOFFSETFROM:-0500
TZOFFSETTO:-0600
TZNAME:CST
DTSTART:20271107T070000
END:STANDARD
END:VTIMEZONE
BEGIN:VEVENT
DTSTART;TZID=America/Winnipeg:20260423T190000
DTEND;TZID=America/Winnipeg:20260423T190000
DTSTAMP:20260423T093542
CREATED:20260325T191452Z
LAST-MODIFIED:20260325T191452Z
UID:14896-1776970800-1776970800@www.winkleremmc.com
SUMMARY:Youth
DESCRIPTION:
URL:https://www.winkleremmc.com/event/youth-27/
END:VEVENT
BEGIN:VEVENT
DTSTART;VALUE=DATE:20260424
DTEND;VALUE=DATE:20260425
DTSTAMP:20260423T093542
CREATED:20260223T220908Z
LAST-MODIFIED:20260416T140841Z
UID:14802-1776988800-1777075199@www.winkleremmc.com
SUMMARY:Church Family Night
DESCRIPTION:Church Family Fun Night\, Friday\, Apr. 24\, at 7:00 p.m. Join us for an evening of fellowship and fun! We’ll have outdoor games\, cozy fire pits to keep warm\, and plenty of snacks to enjoy together. If the weather doesn’t cooperate\, we’ll move the fun indoors. Bring your family\, your friends\, and your laughter.
URL:https://www.winkleremmc.com/event/church-family-night-5/
END:VEVENT
BEGIN:VEVENT
DTSTART;TZID=America/Winnipeg:20260424T190000
DTEND;TZID=America/Winnipeg:20260424T190000
DTSTAMP:20260423T093542
CREATED:20260325T191553Z
LAST-MODIFIED:20260325T191553Z
UID:14902-1777057200-1777057200@www.winkleremmc.com
SUMMARY:Young Adults
DESCRIPTION:
URL:https://www.winkleremmc.com/event/young-adults-35/
END:VEVENT
BEGIN:VEVENT
DTSTART;TZID=America/Winnipeg:20260426T090000
DTEND;TZID=America/Winnipeg:20260426T090000
DTSTAMP:20260423T093542
CREATED:20260325T190739Z
LAST-MODIFIED:20260325T190739Z
UID:14867-1777194000-1777194000@www.winkleremmc.com
SUMMARY:Baptism Class & Sunday School
DESCRIPTION:
URL:https://www.winkleremmc.com/event/baptism-class-sunday-school-13/
END:VEVENT
BEGIN:VEVENT
DTSTART;TZID=America/Winnipeg:20260426T103000
DTEND;TZID=America/Winnipeg:20260426T103000
DTSTAMP:20260423T093542
CREATED:20260325T190933Z
LAST-MODIFIED:20260325T190933Z
UID:14874-1777199400-1777199400@www.winkleremmc.com
SUMMARY:Worship Service
DESCRIPTION:
URL:https://www.winkleremmc.com/event/worship-service-130/
END:VEVENT
BEGIN:VEVENT
DTSTART;VALUE=DATE:20260428
DTEND;VALUE=DATE:20260429
DTSTAMP:20260423T093542
CREATED:20260325T191236Z
LAST-MODIFIED:20260408T181540Z
UID:14886-1777334400-1777420799@www.winkleremmc.com
SUMMARY:50 Plus Supper
DESCRIPTION:50+ Supper: Tuesday\, Apr. 28\, 5:30 p.m.\, in the church fellowship hall. Invitation to all seniors for supper. Invite a friend. Come enjoy food\, fellowship. Our evening will include an Israel experience with Dale Dueck. Please sign up on the sheets provided in the foyer. Donations to help cover costs are welcome. If you have questions\, you may contact the church office or Verna Towarnicki at 204-325-8456. Please check on the sign-up sheet if a ride is needed or if you are willing to provide a ride.
URL:https://www.winkleremmc.com/event/50-plus-supper-2/
END:VEVENT
BEGIN:VEVENT
DTSTART;TZID=America/Winnipeg:20260430T190000
DTEND;TZID=America/Winnipeg:20260430T190000
DTSTAMP:20260423T093542
CREATED:20260325T191513Z
LAST-MODIFIED:20260325T191513Z
UID:14898-1777575600-1777575600@www.winkleremmc.com
SUMMARY:Youth
DESCRIPTION:
URL:https://www.winkleremmc.com/event/youth-28/
END:VEVENT
END:VCALENDAR