BEGIN:VCALENDAR
VERSION:2.0
PRODID:-//Winkler EMMC - ECPv6.15.10//NONSGML v1.0//EN
CALSCALE:GREGORIAN
METHOD:PUBLISH
X-ORIGINAL-URL:https://www.winkleremmc.com
X-WR-CALDESC:Events for Winkler EMMC
REFRESH-INTERVAL;VALUE=DURATION:PT1H
X-Robots-Tag:noindex
X-PUBLISHED-TTL:PT1H
BEGIN:VTIMEZONE
TZID:America/Winnipeg
BEGIN:DAYLIGHT
TZOFFSETFROM:-0600
TZOFFSETTO:-0500
TZNAME:CDT
DTSTART:20250309T080000
END:DAYLIGHT
BEGIN:STANDARD
TZOFFSETFROM:-0500
TZOFFSETTO:-0600
TZNAME:CST
DTSTART:20251102T070000
END:STANDARD
BEGIN:DAYLIGHT
TZOFFSETFROM:-0600
TZOFFSETTO:-0500
TZNAME:CDT
DTSTART:20260308T080000
END:DAYLIGHT
BEGIN:STANDARD
TZOFFSETFROM:-0500
TZOFFSETTO:-0600
TZNAME:CST
DTSTART:20261101T070000
END:STANDARD
BEGIN:DAYLIGHT
TZOFFSETFROM:-0600
TZOFFSETTO:-0500
TZNAME:CDT
DTSTART:20270314T080000
END:DAYLIGHT
BEGIN:STANDARD
TZOFFSETFROM:-0500
TZOFFSETTO:-0600
TZNAME:CST
DTSTART:20271107T070000
END:STANDARD
END:VTIMEZONE
BEGIN:VEVENT
DTSTART;TZID=America/Winnipeg:20260301T090000
DTEND;TZID=America/Winnipeg:20260301T090000
DTSTAMP:20260423T105913
CREATED:20260223T214648Z
LAST-MODIFIED:20260223T214648Z
UID:14734-1772355600-1772355600@www.winkleremmc.com
SUMMARY:Baptism Class & Sunday School
DESCRIPTION:
URL:https://www.winkleremmc.com/event/baptism-class-sunday-school-7/
END:VEVENT
BEGIN:VEVENT
DTSTART;TZID=America/Winnipeg:20260301T103000
DTEND;TZID=America/Winnipeg:20260301T103000
DTSTAMP:20260423T105913
CREATED:20260121T191840Z
LAST-MODIFIED:20260223T214323Z
UID:14661-1772361000-1772361000@www.winkleremmc.com
SUMMARY:Worship Service
DESCRIPTION:
URL:https://www.winkleremmc.com/event/worship-communion-service-2/
END:VEVENT
BEGIN:VEVENT
DTSTART;TZID=America/Winnipeg:20260302T093000
DTEND;TZID=America/Winnipeg:20260302T093000
DTSTAMP:20260423T105913
CREATED:20260223T214958Z
LAST-MODIFIED:20260223T214958Z
UID:14746-1772443800-1772443800@www.winkleremmc.com
SUMMARY:WOW Bible Study
DESCRIPTION:
URL:https://www.winkleremmc.com/event/wow-bible-study-83/
END:VEVENT
BEGIN:VEVENT
DTSTART;TZID=America/Winnipeg:20260302T190000
DTEND;TZID=America/Winnipeg:20260302T190000
DTSTAMP:20260423T105913
CREATED:20260223T215023Z
LAST-MODIFIED:20260223T215023Z
UID:14748-1772478000-1772478000@www.winkleremmc.com
SUMMARY:WOW Bible Study
DESCRIPTION:
URL:https://www.winkleremmc.com/event/wow-bible-study-84/
END:VEVENT
BEGIN:VEVENT
DTSTART;TZID=America/Winnipeg:20260303T190000
DTEND;TZID=America/Winnipeg:20260303T190000
DTSTAMP:20260423T105913
CREATED:20260223T215222Z
LAST-MODIFIED:20260223T215222Z
UID:14758-1772564400-1772564400@www.winkleremmc.com
SUMMARY:Mission Com Mtg
DESCRIPTION:
URL:https://www.winkleremmc.com/event/mission-com-mtg-31/
END:VEVENT
BEGIN:VEVENT
DTSTART;TZID=America/Winnipeg:20260303T190000
DTEND;TZID=America/Winnipeg:20260303T190000
DTSTAMP:20260423T105913
CREATED:20260223T215248Z
LAST-MODIFIED:20260223T215248Z
UID:14760-1772564400-1772564400@www.winkleremmc.com
SUMMARY:KidMin Leadership Team Mtg
DESCRIPTION:
URL:https://www.winkleremmc.com/event/kidmin-leadership-team-mtg-4/
END:VEVENT
BEGIN:VEVENT
DTSTART;TZID=America/Winnipeg:20260305T190000
DTEND;TZID=America/Winnipeg:20260305T190000
DTSTAMP:20260423T105913
CREATED:20260223T215638Z
LAST-MODIFIED:20260223T215638Z
UID:14772-1772737200-1772737200@www.winkleremmc.com
SUMMARY:Youth
DESCRIPTION:
URL:https://www.winkleremmc.com/event/youth-21/
END:VEVENT
BEGIN:VEVENT
DTSTART;VALUE=DATE:20260306
DTEND;VALUE=DATE:20260308
DTSTAMP:20260423T105913
CREATED:20260223T215847Z
LAST-MODIFIED:20260223T215847Z
UID:14782-1772755200-1772927999@www.winkleremmc.com
SUMMARY:Quiz Meet Central
DESCRIPTION:
URL:https://www.winkleremmc.com/event/quiz-meet-central/
END:VEVENT
BEGIN:VEVENT
DTSTART;VALUE=DATE:20260307
DTEND;VALUE=DATE:20260308
DTSTAMP:20260423T105913
CREATED:20260223T215911Z
LAST-MODIFIED:20260223T215911Z
UID:14784-1772841600-1772927999@www.winkleremmc.com
SUMMARY:DST Time Change
DESCRIPTION:
URL:https://www.winkleremmc.com/event/dst-time-change/
END:VEVENT
BEGIN:VEVENT
DTSTART;TZID=America/Winnipeg:20260308T090000
DTEND;TZID=America/Winnipeg:20260308T090000
DTSTAMP:20260423T105913
CREATED:20260223T214717Z
LAST-MODIFIED:20260223T214717Z
UID:14736-1772960400-1772960400@www.winkleremmc.com
SUMMARY:Baptism Class & Sunday School
DESCRIPTION:
URL:https://www.winkleremmc.com/event/baptism-class-sunday-school-9/
END:VEVENT
BEGIN:VEVENT
DTSTART;TZID=America/Winnipeg:20260308T103000
DTEND;TZID=America/Winnipeg:20260308T103000
DTSTAMP:20260423T105913
CREATED:20260223T214823Z
LAST-MODIFIED:20260223T214823Z
UID:14740-1772965800-1772965800@www.winkleremmc.com
SUMMARY:Worship Service
DESCRIPTION:
URL:https://www.winkleremmc.com/event/worship-service-125/
END:VEVENT
BEGIN:VEVENT
DTSTART;TZID=America/Winnipeg:20260309T093000
DTEND;TZID=America/Winnipeg:20260309T093000
DTSTAMP:20260423T105913
CREATED:20260223T215044Z
LAST-MODIFIED:20260223T215044Z
UID:14750-1773048600-1773048600@www.winkleremmc.com
SUMMARY:WOW Bible Study
DESCRIPTION:
URL:https://www.winkleremmc.com/event/wow-bible-study-85/
END:VEVENT
BEGIN:VEVENT
DTSTART;TZID=America/Winnipeg:20260309T190000
DTEND;TZID=America/Winnipeg:20260309T190000
DTSTAMP:20260423T105913
CREATED:20260223T215107Z
LAST-MODIFIED:20260223T215107Z
UID:14752-1773082800-1773082800@www.winkleremmc.com
SUMMARY:WOW Bible Study
DESCRIPTION:
URL:https://www.winkleremmc.com/event/wow-bible-study-86/
END:VEVENT
BEGIN:VEVENT
DTSTART;TZID=America/Winnipeg:20260310T190000
DTEND;TZID=America/Winnipeg:20260310T190000
DTSTAMP:20260423T105913
CREATED:20260223T215310Z
LAST-MODIFIED:20260223T215310Z
UID:14762-1773169200-1773169200@www.winkleremmc.com
SUMMARY:Worship Com Mtg
DESCRIPTION:
URL:https://www.winkleremmc.com/event/worship-com-mtg-22/
END:VEVENT
BEGIN:VEVENT
DTSTART;TZID=America/Winnipeg:20260310T190000
DTEND;TZID=America/Winnipeg:20260310T190000
DTSTAMP:20260423T105913
CREATED:20260223T215339Z
LAST-MODIFIED:20260223T215339Z
UID:14764-1773169200-1773169200@www.winkleremmc.com
SUMMARY:Administration Com Mtg
DESCRIPTION:
URL:https://www.winkleremmc.com/event/administration-com-mtg-14/
END:VEVENT
BEGIN:VEVENT
DTSTART;TZID=America/Winnipeg:20260310T190000
DTEND;TZID=America/Winnipeg:20260310T190000
DTSTAMP:20260423T105913
CREATED:20260223T215401Z
LAST-MODIFIED:20260223T215401Z
UID:14766-1773169200-1773169200@www.winkleremmc.com
SUMMARY:Deacon Com Mtg
DESCRIPTION:
URL:https://www.winkleremmc.com/event/deacon-com-mtg-17/
END:VEVENT
BEGIN:VEVENT
DTSTART;TZID=America/Winnipeg:20260312T190000
DTEND;TZID=America/Winnipeg:20260312T190000
DTSTAMP:20260423T105913
CREATED:20260223T215659Z
LAST-MODIFIED:20260223T215659Z
UID:14774-1773342000-1773342000@www.winkleremmc.com
SUMMARY:Youth
DESCRIPTION:
URL:https://www.winkleremmc.com/event/youth-22/
END:VEVENT
BEGIN:VEVENT
DTSTART;VALUE=DATE:20260313
DTEND;VALUE=DATE:20260315
DTSTAMP:20260423T105913
CREATED:20260223T220621Z
LAST-MODIFIED:20260223T220621Z
UID:14790-1773360000-1773532799@www.winkleremmc.com
SUMMARY:Steinbach Bible College Leadership Conference
DESCRIPTION:
URL:https://www.winkleremmc.com/event/steinbach-bible-college-leadership-conference/
END:VEVENT
BEGIN:VEVENT
DTSTART;VALUE=DATE:20260313
DTEND;VALUE=DATE:20260315
DTSTAMP:20260423T105913
CREATED:20260223T220652Z
LAST-MODIFIED:20260223T220652Z
UID:14792-1773360000-1773532799@www.winkleremmc.com
SUMMARY:Awesome Kidmin Conference
DESCRIPTION:
URL:https://www.winkleremmc.com/event/awesome-kidmin-conference/
END:VEVENT
BEGIN:VEVENT
DTSTART;TZID=America/Winnipeg:20260313T190000
DTEND;TZID=America/Winnipeg:20260313T190000
DTSTAMP:20260423T105913
CREATED:20260223T215938Z
LAST-MODIFIED:20260223T215938Z
UID:14786-1773428400-1773428400@www.winkleremmc.com
SUMMARY:Young Adults
DESCRIPTION:
URL:https://www.winkleremmc.com/event/young-adults-32/
END:VEVENT
BEGIN:VEVENT
DTSTART;TZID=America/Winnipeg:20260315T090000
DTEND;TZID=America/Winnipeg:20260315T090000
DTSTAMP:20260423T105913
CREATED:20260223T214748Z
LAST-MODIFIED:20260223T214748Z
UID:14738-1773565200-1773565200@www.winkleremmc.com
SUMMARY:Baptism Class & Sunday School
DESCRIPTION:
URL:https://www.winkleremmc.com/event/baptism-class-sunday-school-10/
END:VEVENT
BEGIN:VEVENT
DTSTART;TZID=America/Winnipeg:20260315T103000
DTEND;TZID=America/Winnipeg:20260315T103000
DTSTAMP:20260423T105913
CREATED:20260223T214855Z
LAST-MODIFIED:20260223T214855Z
UID:14742-1773570600-1773570600@www.winkleremmc.com
SUMMARY:Worship Service
DESCRIPTION:
URL:https://www.winkleremmc.com/event/worship-service-126/
END:VEVENT
BEGIN:VEVENT
DTSTART;TZID=America/Winnipeg:20260316T093000
DTEND;TZID=America/Winnipeg:20260316T093000
DTSTAMP:20260423T105913
CREATED:20260223T215129Z
LAST-MODIFIED:20260223T215129Z
UID:14754-1773653400-1773653400@www.winkleremmc.com
SUMMARY:WOW Bible Study
DESCRIPTION:
URL:https://www.winkleremmc.com/event/wow-bible-study-87/
END:VEVENT
BEGIN:VEVENT
DTSTART;TZID=America/Winnipeg:20260317T093000
DTEND;TZID=America/Winnipeg:20260317T093000
DTSTAMP:20260423T105913
CREATED:20260121T192722Z
LAST-MODIFIED:20260121T192722Z
UID:14677-1773739800-1773739800@www.winkleremmc.com
SUMMARY:Mom's Morning Stay & Play
DESCRIPTION:
URL:https://www.winkleremmc.com/event/moms-morning-stay-play-8/
END:VEVENT
BEGIN:VEVENT
DTSTART;TZID=America/Winnipeg:20260317T190000
DTEND;TZID=America/Winnipeg:20260317T190000
DTSTAMP:20260423T105913
CREATED:20260223T215440Z
LAST-MODIFIED:20260223T215440Z
UID:14768-1773774000-1773774000@www.winkleremmc.com
SUMMARY:KidMin Team Leadership Mtg
DESCRIPTION:
URL:https://www.winkleremmc.com/event/kidmin-team-leadership-mtg/
END:VEVENT
BEGIN:VEVENT
DTSTART;TZID=America/Winnipeg:20260317T190000
DTEND;TZID=America/Winnipeg:20260317T190000
DTSTAMP:20260423T105913
CREATED:20260223T215508Z
LAST-MODIFIED:20260223T215508Z
UID:14770-1773774000-1773774000@www.winkleremmc.com
SUMMARY:Church Council Mtg
DESCRIPTION:
URL:https://www.winkleremmc.com/event/church-council-mtg-31/
END:VEVENT
BEGIN:VEVENT
DTSTART;TZID=America/Winnipeg:20260319T180000
DTEND;TZID=America/Winnipeg:20260319T180000
DTSTAMP:20260423T105913
CREATED:20260223T215818Z
LAST-MODIFIED:20260224T165317Z
UID:14780-1773943200-1773943200@www.winkleremmc.com
SUMMARY:Sunday School Staff Supper & Conference Recap/Training
DESCRIPTION:
URL:https://www.winkleremmc.com/event/sunday-school-staff-supper-conference-recap-training/
END:VEVENT
BEGIN:VEVENT
DTSTART;TZID=America/Winnipeg:20260319T190000
DTEND;TZID=America/Winnipeg:20260319T190000
DTSTAMP:20260423T105913
CREATED:20260223T215725Z
LAST-MODIFIED:20260223T215725Z
UID:14776-1773946800-1773946800@www.winkleremmc.com
SUMMARY:Youth
DESCRIPTION:
URL:https://www.winkleremmc.com/event/youth-23/
END:VEVENT
BEGIN:VEVENT
DTSTART;TZID=America/Winnipeg:20260322T090000
DTEND;TZID=America/Winnipeg:20260322T094500
DTSTAMP:20260423T105913
CREATED:20260121T192007Z
LAST-MODIFIED:20260302T165608Z
UID:14665-1774170000-1774172700@www.winkleremmc.com
SUMMARY:Sunday School - Take note of time change. NO Adult or Youth Sunday School.
DESCRIPTION:
URL:https://www.winkleremmc.com/event/sunday-school-check-times/
END:VEVENT
BEGIN:VEVENT
DTSTART;TZID=America/Winnipeg:20260322T100000
DTEND;TZID=America/Winnipeg:20260322T100000
DTSTAMP:20260423T105913
CREATED:20260121T192041Z
LAST-MODIFIED:20260223T214515Z
UID:14667-1774173600-1774173600@www.winkleremmc.com
SUMMARY:Baptism/Membership Service - Take note of Change in Start Time
DESCRIPTION:
URL:https://www.winkleremmc.com/event/baptism-membership-service-check-start-time/
END:VEVENT
END:VCALENDAR