BEGIN:VCALENDAR
VERSION:2.0
PRODID:-//Winkler EMMC - ECPv6.15.10//NONSGML v1.0//EN
CALSCALE:GREGORIAN
METHOD:PUBLISH
X-ORIGINAL-URL:https://www.winkleremmc.com
X-WR-CALDESC:Events for Winkler EMMC
REFRESH-INTERVAL;VALUE=DURATION:PT1H
X-Robots-Tag:noindex
X-PUBLISHED-TTL:PT1H
BEGIN:VTIMEZONE
TZID:America/Winnipeg
BEGIN:DAYLIGHT
TZOFFSETFROM:-0600
TZOFFSETTO:-0500
TZNAME:CDT
DTSTART:20250309T080000
END:DAYLIGHT
BEGIN:STANDARD
TZOFFSETFROM:-0500
TZOFFSETTO:-0600
TZNAME:CST
DTSTART:20251102T070000
END:STANDARD
BEGIN:DAYLIGHT
TZOFFSETFROM:-0600
TZOFFSETTO:-0500
TZNAME:CDT
DTSTART:20260308T080000
END:DAYLIGHT
BEGIN:STANDARD
TZOFFSETFROM:-0500
TZOFFSETTO:-0600
TZNAME:CST
DTSTART:20261101T070000
END:STANDARD
BEGIN:DAYLIGHT
TZOFFSETFROM:-0600
TZOFFSETTO:-0500
TZNAME:CDT
DTSTART:20270314T080000
END:DAYLIGHT
BEGIN:STANDARD
TZOFFSETFROM:-0500
TZOFFSETTO:-0600
TZNAME:CST
DTSTART:20271107T070000
END:STANDARD
END:VTIMEZONE
BEGIN:VEVENT
DTSTART;TZID=America/Winnipeg:20260201T090000
DTEND;TZID=America/Winnipeg:20260201T090000
DTSTAMP:20260423T123349
CREATED:20260121T190610Z
LAST-MODIFIED:20260121T190610Z
UID:14608-1769936400-1769936400@www.winkleremmc.com
SUMMARY:Baptism Class & Sunday School
DESCRIPTION:
URL:https://www.winkleremmc.com/event/baptism-class-sunday-school-5/
END:VEVENT
BEGIN:VEVENT
DTSTART;TZID=America/Winnipeg:20260201T103000
DTEND;TZID=America/Winnipeg:20260201T103000
DTSTAMP:20260423T123349
CREATED:20260121T190927Z
LAST-MODIFIED:20260121T190927Z
UID:14617-1769941800-1769941800@www.winkleremmc.com
SUMMARY:Worship Service
DESCRIPTION:
URL:https://www.winkleremmc.com/event/worship-service-121/
END:VEVENT
BEGIN:VEVENT
DTSTART;TZID=America/Winnipeg:20260202T090000
DTEND;TZID=America/Winnipeg:20260202T090000
DTSTAMP:20260423T123349
CREATED:20260121T191059Z
LAST-MODIFIED:20260121T191059Z
UID:14625-1770022800-1770022800@www.winkleremmc.com
SUMMARY:WOW Bible Study
DESCRIPTION:
URL:https://www.winkleremmc.com/event/wow-bible-study-77/
END:VEVENT
BEGIN:VEVENT
DTSTART;TZID=America/Winnipeg:20260202T190000
DTEND;TZID=America/Winnipeg:20260202T190000
DTSTAMP:20260423T123349
CREATED:20260121T191117Z
LAST-MODIFIED:20260121T191117Z
UID:14627-1770058800-1770058800@www.winkleremmc.com
SUMMARY:WOW Bible Study
DESCRIPTION:
URL:https://www.winkleremmc.com/event/wow-bible-study-78/
END:VEVENT
BEGIN:VEVENT
DTSTART;TZID=America/Winnipeg:20260205T190000
DTEND;TZID=America/Winnipeg:20260205T190000
DTSTAMP:20260423T123349
CREATED:20260121T191557Z
LAST-MODIFIED:20260121T191557Z
UID:14649-1770318000-1770318000@www.winkleremmc.com
SUMMARY:Youth
DESCRIPTION:
URL:https://www.winkleremmc.com/event/youth-18/
END:VEVENT
BEGIN:VEVENT
DTSTART;TZID=America/Winnipeg:20260208T090000
DTEND;TZID=America/Winnipeg:20260208T090000
DTSTAMP:20260423T123349
CREATED:20260121T190634Z
LAST-MODIFIED:20260121T190634Z
UID:14610-1770541200-1770541200@www.winkleremmc.com
SUMMARY:Baptism Class & Sunday School
DESCRIPTION:
URL:https://www.winkleremmc.com/event/baptism-class-sunday-school-6/
END:VEVENT
BEGIN:VEVENT
DTSTART;TZID=America/Winnipeg:20260208T103000
DTEND;TZID=America/Winnipeg:20260208T103000
DTSTAMP:20260423T123349
CREATED:20260121T190947Z
LAST-MODIFIED:20260121T190947Z
UID:14619-1770546600-1770546600@www.winkleremmc.com
SUMMARY:Worship Service
DESCRIPTION:
URL:https://www.winkleremmc.com/event/worship-service-122/
END:VEVENT
BEGIN:VEVENT
DTSTART;TZID=America/Winnipeg:20260209T090000
DTEND;TZID=America/Winnipeg:20260209T090000
DTSTAMP:20260423T123349
CREATED:20260121T191140Z
LAST-MODIFIED:20260121T191140Z
UID:14629-1770627600-1770627600@www.winkleremmc.com
SUMMARY:WOW Bible Study
DESCRIPTION:
URL:https://www.winkleremmc.com/event/wow-bible-study-79/
END:VEVENT
BEGIN:VEVENT
DTSTART;TZID=America/Winnipeg:20260209T190000
DTEND;TZID=America/Winnipeg:20260209T190000
DTSTAMP:20260423T123349
CREATED:20260121T191202Z
LAST-MODIFIED:20260121T191202Z
UID:14631-1770663600-1770663600@www.winkleremmc.com
SUMMARY:WOW Bible Study
DESCRIPTION:
URL:https://www.winkleremmc.com/event/wow-bible-study-80/
END:VEVENT
BEGIN:VEVENT
DTSTART;TZID=America/Winnipeg:20260210T190000
DTEND;TZID=America/Winnipeg:20260210T190000
DTSTAMP:20260423T123349
CREATED:20260121T191329Z
LAST-MODIFIED:20260121T191329Z
UID:14639-1770750000-1770750000@www.winkleremmc.com
SUMMARY:Administration Com Mtg
DESCRIPTION:
URL:https://www.winkleremmc.com/event/administration-com-mtg-13/
END:VEVENT
BEGIN:VEVENT
DTSTART;TZID=America/Winnipeg:20260210T190000
DTEND;TZID=America/Winnipeg:20260210T190000
DTSTAMP:20260423T123349
CREATED:20260121T191351Z
LAST-MODIFIED:20260121T191351Z
UID:14641-1770750000-1770750000@www.winkleremmc.com
SUMMARY:Worship Com Mtg
DESCRIPTION:
URL:https://www.winkleremmc.com/event/worship-com-mtg-21/
END:VEVENT
BEGIN:VEVENT
DTSTART;TZID=America/Winnipeg:20260211T190000
DTEND;TZID=America/Winnipeg:20260211T190000
DTSTAMP:20260423T123349
CREATED:20260121T191532Z
LAST-MODIFIED:20260121T200617Z
UID:14647-1770836400-1770836400@www.winkleremmc.com
SUMMARY:Membership 101 Class
DESCRIPTION:Membership 101 Class (for those who wish to transfer their membership to our church) will be held on Feb. 11 at 7:00 p.m. Please sign up on the sheet at the Info Centre table if you plan to attend.  Information packets are also available on the Info Centre table.
URL:https://www.winkleremmc.com/event/membership-101-class/
END:VEVENT
BEGIN:VEVENT
DTSTART;VALUE=DATE:20260213
DTEND;VALUE=DATE:20260216
DTSTAMP:20260423T123349
CREATED:20260121T191809Z
LAST-MODIFIED:20260121T191809Z
UID:14659-1770940800-1771199999@www.winkleremmc.com
SUMMARY:Youth Retreat
DESCRIPTION:
URL:https://www.winkleremmc.com/event/youth-retreat-2/
END:VEVENT
BEGIN:VEVENT
DTSTART;TZID=America/Winnipeg:20260213T190000
DTEND;TZID=America/Winnipeg:20260213T190000
DTSTAMP:20260423T123349
CREATED:20260121T191703Z
LAST-MODIFIED:20260121T191703Z
UID:14655-1771009200-1771009200@www.winkleremmc.com
SUMMARY:Young Adults
DESCRIPTION:
URL:https://www.winkleremmc.com/event/young-adults-30/
END:VEVENT
BEGIN:VEVENT
DTSTART;VALUE=DATE:20260215
DTEND;VALUE=DATE:20260216
DTSTAMP:20260423T123349
CREATED:20260121T192338Z
LAST-MODIFIED:20260121T192338Z
UID:14675-1771113600-1771199999@www.winkleremmc.com
SUMMARY:NO Baptism Class and Sunday School
DESCRIPTION:
URL:https://www.winkleremmc.com/event/no-baptism-class-and-sunday-school/
END:VEVENT
BEGIN:VEVENT
DTSTART;TZID=America/Winnipeg:20260215T103000
DTEND;TZID=America/Winnipeg:20260215T103000
DTSTAMP:20260423T123349
CREATED:20260121T191012Z
LAST-MODIFIED:20260121T191012Z
UID:14621-1771151400-1771151400@www.winkleremmc.com
SUMMARY:Worship Service
DESCRIPTION:
URL:https://www.winkleremmc.com/event/worship-service-123/
END:VEVENT
BEGIN:VEVENT
DTSTART;VALUE=DATE:20260216
DTEND;VALUE=DATE:20260217
DTSTAMP:20260423T123349
CREATED:20260121T191306Z
LAST-MODIFIED:20260121T191306Z
UID:14637-1771200000-1771286399@www.winkleremmc.com
SUMMARY:Louis Riel Day - Offices Closed
DESCRIPTION:
URL:https://www.winkleremmc.com/event/louis-riel-day-offices-closed-4/
END:VEVENT
BEGIN:VEVENT
DTSTART;TZID=America/Winnipeg:20260217T093000
DTEND;TZID=America/Winnipeg:20260217T093000
DTSTAMP:20260423T123349
CREATED:20251222T224958Z
LAST-MODIFIED:20251222T224958Z
UID:14531-1771320600-1771320600@www.winkleremmc.com
SUMMARY:Mom's Morning Stay & Play
DESCRIPTION:
URL:https://www.winkleremmc.com/event/moms-morning-stay-play-6/
END:VEVENT
BEGIN:VEVENT
DTSTART;TZID=America/Winnipeg:20260217T093000
DTEND;TZID=America/Winnipeg:20260217T093000
DTSTAMP:20260423T123349
CREATED:20260121T191905Z
LAST-MODIFIED:20260121T191905Z
UID:14663-1771320600-1771320600@www.winkleremmc.com
SUMMARY:Mom's Morning Stay & Play
DESCRIPTION:
URL:https://www.winkleremmc.com/event/moms-morning-stay-play-7/
END:VEVENT
BEGIN:VEVENT
DTSTART;TZID=America/Winnipeg:20260217T190000
DTEND;TZID=America/Winnipeg:20260217T190000
DTSTAMP:20260423T123349
CREATED:20260121T191421Z
LAST-MODIFIED:20260121T191421Z
UID:14643-1771354800-1771354800@www.winkleremmc.com
SUMMARY:KidMin Leadership Team Mtg
DESCRIPTION:
URL:https://www.winkleremmc.com/event/kidmin-leadership-team-mtg-3/
END:VEVENT
BEGIN:VEVENT
DTSTART;TZID=America/Winnipeg:20260217T190000
DTEND;TZID=America/Winnipeg:20260217T190000
DTSTAMP:20260423T123349
CREATED:20260121T191447Z
LAST-MODIFIED:20260121T191447Z
UID:14645-1771354800-1771354800@www.winkleremmc.com
SUMMARY:Church Council Mtg
DESCRIPTION:
URL:https://www.winkleremmc.com/event/church-council-mtg-30/
END:VEVENT
BEGIN:VEVENT
DTSTART;TZID=America/Winnipeg:20260219T190000
DTEND;TZID=America/Winnipeg:20260219T190000
DTSTAMP:20260423T123349
CREATED:20260121T191619Z
LAST-MODIFIED:20260121T191619Z
UID:14651-1771527600-1771527600@www.winkleremmc.com
SUMMARY:Youth
DESCRIPTION:
URL:https://www.winkleremmc.com/event/youth-19/
END:VEVENT
BEGIN:VEVENT
DTSTART;VALUE=DATE:20260220
DTEND;VALUE=DATE:20260221
DTSTAMP:20260423T123349
CREATED:20251222T225116Z
LAST-MODIFIED:20251222T225116Z
UID:14533-1771545600-1771631999@www.winkleremmc.com
SUMMARY:Church Family Night - Nacho Bar
DESCRIPTION:
URL:https://www.winkleremmc.com/event/church-family-night-nacho-bar/
END:VEVENT
BEGIN:VEVENT
DTSTART;TZID=America/Winnipeg:20260222T090000
DTEND;TZID=America/Winnipeg:20260222T090000
DTSTAMP:20260423T123349
CREATED:20260121T190813Z
LAST-MODIFIED:20260121T190813Z
UID:14615-1771750800-1771750800@www.winkleremmc.com
SUMMARY:Baptism Class & Sunday School
DESCRIPTION:
URL:https://www.winkleremmc.com/event/baptism-class-sunday-school-8/
END:VEVENT
BEGIN:VEVENT
DTSTART;TZID=America/Winnipeg:20260222T103000
DTEND;TZID=America/Winnipeg:20260222T103000
DTSTAMP:20260423T123349
CREATED:20260121T191033Z
LAST-MODIFIED:20260121T191033Z
UID:14623-1771756200-1771756200@www.winkleremmc.com
SUMMARY:Worship Service
DESCRIPTION:
URL:https://www.winkleremmc.com/event/worship-service-124/
END:VEVENT
BEGIN:VEVENT
DTSTART;TZID=America/Winnipeg:20260223T090000
DTEND;TZID=America/Winnipeg:20260223T090000
DTSTAMP:20260423T123349
CREATED:20260121T191223Z
LAST-MODIFIED:20260210T165604Z
UID:14633-1771837200-1771837200@www.winkleremmc.com
SUMMARY:No WOW Bible Study
DESCRIPTION:
URL:https://www.winkleremmc.com/event/wow-bible-study-81/
END:VEVENT
BEGIN:VEVENT
DTSTART;TZID=America/Winnipeg:20260223T190000
DTEND;TZID=America/Winnipeg:20260223T190000
DTSTAMP:20260423T123349
CREATED:20260121T191246Z
LAST-MODIFIED:20260210T165539Z
UID:14635-1771873200-1771873200@www.winkleremmc.com
SUMMARY:No WOW Bible Study
DESCRIPTION:
URL:https://www.winkleremmc.com/event/wow-bible-study-82/
END:VEVENT
BEGIN:VEVENT
DTSTART;TZID=America/Winnipeg:20260224T190000
DTEND;TZID=America/Winnipeg:20260224T190000
DTSTAMP:20260423T123349
CREATED:20251222T225144Z
LAST-MODIFIED:20251222T225144Z
UID:14535-1771959600-1771959600@www.winkleremmc.com
SUMMARY:Annual Congregational Mtg
DESCRIPTION:
URL:https://www.winkleremmc.com/event/annual-congregational-mtg/
END:VEVENT
BEGIN:VEVENT
DTSTART;TZID=America/Winnipeg:20260226T190000
DTEND;TZID=America/Winnipeg:20260226T190000
DTSTAMP:20260423T123349
CREATED:20260121T191640Z
LAST-MODIFIED:20260121T191640Z
UID:14653-1772132400-1772132400@www.winkleremmc.com
SUMMARY:Youth
DESCRIPTION:
URL:https://www.winkleremmc.com/event/youth-20/
END:VEVENT
BEGIN:VEVENT
DTSTART;TZID=America/Winnipeg:20260227T190000
DTEND;TZID=America/Winnipeg:20260227T190000
DTSTAMP:20260423T123349
CREATED:20260121T191725Z
LAST-MODIFIED:20260121T191725Z
UID:14657-1772218800-1772218800@www.winkleremmc.com
SUMMARY:Young Adults
DESCRIPTION:
URL:https://www.winkleremmc.com/event/young-adults-31/
END:VEVENT
END:VCALENDAR