BEGIN:VCALENDAR
VERSION:2.0
PRODID:-//Winkler EMMC - ECPv6.15.10//NONSGML v1.0//EN
CALSCALE:GREGORIAN
METHOD:PUBLISH
X-WR-CALNAME:Winkler EMMC
X-ORIGINAL-URL:https://www.winkleremmc.com
X-WR-CALDESC:Events for Winkler EMMC
REFRESH-INTERVAL;VALUE=DURATION:PT1H
X-Robots-Tag:noindex
X-PUBLISHED-TTL:PT1H
BEGIN:VTIMEZONE
TZID:America/Winnipeg
BEGIN:DAYLIGHT
TZOFFSETFROM:-0600
TZOFFSETTO:-0500
TZNAME:CDT
DTSTART:20240310T080000
END:DAYLIGHT
BEGIN:STANDARD
TZOFFSETFROM:-0500
TZOFFSETTO:-0600
TZNAME:CST
DTSTART:20241103T070000
END:STANDARD
BEGIN:DAYLIGHT
TZOFFSETFROM:-0600
TZOFFSETTO:-0500
TZNAME:CDT
DTSTART:20250309T080000
END:DAYLIGHT
BEGIN:STANDARD
TZOFFSETFROM:-0500
TZOFFSETTO:-0600
TZNAME:CST
DTSTART:20251102T070000
END:STANDARD
BEGIN:DAYLIGHT
TZOFFSETFROM:-0600
TZOFFSETTO:-0500
TZNAME:CDT
DTSTART:20260308T080000
END:DAYLIGHT
BEGIN:STANDARD
TZOFFSETFROM:-0500
TZOFFSETTO:-0600
TZNAME:CST
DTSTART:20261101T070000
END:STANDARD
END:VTIMEZONE
BEGIN:VEVENT
DTSTART;TZID=America/Winnipeg:20251201T093000
DTEND;TZID=America/Winnipeg:20251201T093000
DTSTAMP:20260423T155813
CREATED:20251126T201247Z
LAST-MODIFIED:20251126T201247Z
UID:14349-1764581400-1764581400@www.winkleremmc.com
SUMMARY:WOW Bible Study
DESCRIPTION:
URL:https://www.winkleremmc.com/event/wow-bible-study-68/
END:VEVENT
BEGIN:VEVENT
DTSTART;TZID=America/Winnipeg:20251201T190000
DTEND;TZID=America/Winnipeg:20251201T190000
DTSTAMP:20260423T155813
CREATED:20251126T201311Z
LAST-MODIFIED:20251126T201311Z
UID:14351-1764615600-1764615600@www.winkleremmc.com
SUMMARY:WOW Bible Study
DESCRIPTION:
URL:https://www.winkleremmc.com/event/wow-bible-study-69/
END:VEVENT
BEGIN:VEVENT
DTSTART;TZID=America/Winnipeg:20251202T190000
DTEND;TZID=America/Winnipeg:20251202T190000
DTSTAMP:20260423T155813
CREATED:20251126T201332Z
LAST-MODIFIED:20251126T201332Z
UID:14353-1764702000-1764702000@www.winkleremmc.com
SUMMARY:Mission Com Mtg
DESCRIPTION:
URL:https://www.winkleremmc.com/event/mission-com-mtg-29/
END:VEVENT
BEGIN:VEVENT
DTSTART;TZID=America/Winnipeg:20251204T190000
DTEND;TZID=America/Winnipeg:20251204T190000
DTSTAMP:20260423T155813
CREATED:20251126T201403Z
LAST-MODIFIED:20251126T201403Z
UID:14355-1764874800-1764874800@www.winkleremmc.com
SUMMARY:Youth
DESCRIPTION:
URL:https://www.winkleremmc.com/event/youth-13/
END:VEVENT
BEGIN:VEVENT
DTSTART;TZID=America/Winnipeg:20251205T190000
DTEND;TZID=America/Winnipeg:20251205T190000
DTSTAMP:20260423T155813
CREATED:20251126T201516Z
LAST-MODIFIED:20251126T201516Z
UID:14361-1764961200-1764961200@www.winkleremmc.com
SUMMARY:Young Adults
DESCRIPTION:
URL:https://www.winkleremmc.com/event/young-adults-25/
END:VEVENT
BEGIN:VEVENT
DTSTART;TZID=America/Winnipeg:20251206T093000
DTEND;TZID=America/Winnipeg:20251206T093000
DTSTAMP:20260423T155813
CREATED:20251126T201607Z
LAST-MODIFIED:20251126T201607Z
UID:14365-1765013400-1765013400@www.winkleremmc.com
SUMMARY:Sunday School Christmas Program Rehearsal
DESCRIPTION:
URL:https://www.winkleremmc.com/event/sunday-school-christmas-program-rehearsal-2/
END:VEVENT
BEGIN:VEVENT
DTSTART;TZID=America/Winnipeg:20251207T090000
DTEND;TZID=America/Winnipeg:20251207T090000
DTSTAMP:20260423T155813
CREATED:20251126T201634Z
LAST-MODIFIED:20251126T201634Z
UID:14367-1765098000-1765098000@www.winkleremmc.com
SUMMARY:Renew(ed) Parenting Group
DESCRIPTION:
URL:https://www.winkleremmc.com/event/renewed-parenting-group/
END:VEVENT
BEGIN:VEVENT
DTSTART;TZID=America/Winnipeg:20251207T090000
DTEND;TZID=America/Winnipeg:20251207T090000
DTSTAMP:20260423T155813
CREATED:20251126T201701Z
LAST-MODIFIED:20251126T202613Z
UID:14369-1765098000-1765098000@www.winkleremmc.com
SUMMARY:Sunday School
DESCRIPTION:
URL:https://www.winkleremmc.com/event/sunday-school-75/
END:VEVENT
BEGIN:VEVENT
DTSTART;TZID=America/Winnipeg:20251207T103000
DTEND;TZID=America/Winnipeg:20251207T103000
DTSTAMP:20260423T155813
CREATED:20251022T210031Z
LAST-MODIFIED:20251022T210031Z
UID:14233-1765103400-1765103400@www.winkleremmc.com
SUMMARY:Sunday School Christmas Program
DESCRIPTION:
URL:https://www.winkleremmc.com/event/sunday-school-christmas-program-2/
END:VEVENT
BEGIN:VEVENT
DTSTART;VALUE=DATE:20251208
DTEND;VALUE=DATE:20251210
DTSTAMP:20260423T155813
CREATED:20251126T202226Z
LAST-MODIFIED:20251126T202226Z
UID:14395-1765152000-1765324799@www.winkleremmc.com
SUMMARY:J.R. Walkof School Rehearsals & Programs
DESCRIPTION:
URL:https://www.winkleremmc.com/event/j-r-walkof-school-rehearsals-programs/
END:VEVENT
BEGIN:VEVENT
DTSTART;VALUE=DATE:20251209
DTEND;VALUE=DATE:20251212
DTSTAMP:20260423T155813
CREATED:20251126T202258Z
LAST-MODIFIED:20251126T202258Z
UID:14397-1765238400-1765497599@www.winkleremmc.com
SUMMARY:Kids Korner Nursery School Programs
DESCRIPTION:
URL:https://www.winkleremmc.com/event/kids-korner-nursery-school-programs/
END:VEVENT
BEGIN:VEVENT
DTSTART;TZID=America/Winnipeg:20251209T190000
DTEND;TZID=America/Winnipeg:20251209T190000
DTSTAMP:20260423T155813
CREATED:20251126T202018Z
LAST-MODIFIED:20251126T202018Z
UID:14385-1765306800-1765306800@www.winkleremmc.com
SUMMARY:Administration Com Mtg
DESCRIPTION:
URL:https://www.winkleremmc.com/event/administration-com-mtg-11/
END:VEVENT
BEGIN:VEVENT
DTSTART;TZID=America/Winnipeg:20251210T190000
DTEND;TZID=America/Winnipeg:20251210T190000
DTSTAMP:20260423T155813
CREATED:20251126T202041Z
LAST-MODIFIED:20251126T202041Z
UID:14387-1765393200-1765393200@www.winkleremmc.com
SUMMARY:Worship Com Mtg
DESCRIPTION:
URL:https://www.winkleremmc.com/event/worship-com-mtg-19/
END:VEVENT
BEGIN:VEVENT
DTSTART;TZID=America/Winnipeg:20251211T190000
DTEND;TZID=America/Winnipeg:20251211T190000
DTSTAMP:20260423T155813
CREATED:20251126T201424Z
LAST-MODIFIED:20251126T201424Z
UID:14357-1765479600-1765479600@www.winkleremmc.com
SUMMARY:Youth
DESCRIPTION:
URL:https://www.winkleremmc.com/event/youth-14/
END:VEVENT
BEGIN:VEVENT
DTSTART;VALUE=DATE:20251212
DTEND;VALUE=DATE:20251214
DTSTAMP:20260423T155813
CREATED:20251126T202103Z
LAST-MODIFIED:20251126T202103Z
UID:14389-1765497600-1765670399@www.winkleremmc.com
SUMMARY:Wedding
DESCRIPTION:
URL:https://www.winkleremmc.com/event/wedding-5/
END:VEVENT
BEGIN:VEVENT
DTSTART;TZID=America/Winnipeg:20251214T090000
DTEND;TZID=America/Winnipeg:20251214T090000
DTSTAMP:20260423T155813
CREATED:20251126T201727Z
LAST-MODIFIED:20251126T201727Z
UID:14371-1765702800-1765702800@www.winkleremmc.com
SUMMARY:Sunday School
DESCRIPTION:
URL:https://www.winkleremmc.com/event/sunday-school-76/
END:VEVENT
BEGIN:VEVENT
DTSTART;TZID=America/Winnipeg:20251214T103000
DTEND;TZID=America/Winnipeg:20251214T103000
DTSTAMP:20260423T155813
CREATED:20251126T201829Z
LAST-MODIFIED:20251126T201829Z
UID:14377-1765708200-1765708200@www.winkleremmc.com
SUMMARY:Worship Service
DESCRIPTION:
URL:https://www.winkleremmc.com/event/worship-service-114/
END:VEVENT
BEGIN:VEVENT
DTSTART;TZID=America/Winnipeg:20251216T190000
DTEND;TZID=America/Winnipeg:20251216T190000
DTSTAMP:20260423T155813
CREATED:20251126T202130Z
LAST-MODIFIED:20251126T202130Z
UID:14391-1765911600-1765911600@www.winkleremmc.com
SUMMARY:Church Council Mtg
DESCRIPTION:
URL:https://www.winkleremmc.com/event/church-council-mtg-28/
END:VEVENT
BEGIN:VEVENT
DTSTART;TZID=America/Winnipeg:20251218T180000
DTEND;TZID=America/Winnipeg:20251218T180000
DTSTAMP:20260423T155813
CREATED:20251126T201448Z
LAST-MODIFIED:20251126T201448Z
UID:14359-1766080800-1766080800@www.winkleremmc.com
SUMMARY:Youth Christmas Banquet
DESCRIPTION:
URL:https://www.winkleremmc.com/event/youth-christmas-banquet/
END:VEVENT
BEGIN:VEVENT
DTSTART;TZID=America/Winnipeg:20251219T180000
DTEND;TZID=America/Winnipeg:20251219T180000
DTSTAMP:20260423T155813
CREATED:20251126T201537Z
LAST-MODIFIED:20251210T164350Z
UID:14363-1766167200-1766167200@www.winkleremmc.com
SUMMARY:Young Adults Christmas Banquet
DESCRIPTION:
URL:https://www.winkleremmc.com/event/young-adults-26/
END:VEVENT
BEGIN:VEVENT
DTSTART;VALUE=DATE:20251221
DTEND;VALUE=DATE:20251222
DTSTAMP:20260423T155813
CREATED:20251126T201746Z
LAST-MODIFIED:20251126T201746Z
UID:14373-1766275200-1766361599@www.winkleremmc.com
SUMMARY:NO Sunday School
DESCRIPTION:
URL:https://www.winkleremmc.com/event/no-sunday-school-20/
END:VEVENT
BEGIN:VEVENT
DTSTART;TZID=America/Winnipeg:20251221T103000
DTEND;TZID=America/Winnipeg:20251221T103000
DTSTAMP:20260423T155813
CREATED:20251126T201851Z
LAST-MODIFIED:20251126T201851Z
UID:14379-1766313000-1766313000@www.winkleremmc.com
SUMMARY:Worship Service
DESCRIPTION:
URL:https://www.winkleremmc.com/event/worship-service-115/
END:VEVENT
BEGIN:VEVENT
DTSTART;TZID=America/Winnipeg:20251225T103000
DTEND;TZID=America/Winnipeg:20251225T103000
DTSTAMP:20260423T155813
CREATED:20251022T210102Z
LAST-MODIFIED:20251022T210102Z
UID:14235-1766658600-1766658600@www.winkleremmc.com
SUMMARY:Christmas Day Service
DESCRIPTION:
URL:https://www.winkleremmc.com/event/christmas-day-service-2/
END:VEVENT
BEGIN:VEVENT
DTSTART;VALUE=DATE:20251226
DTEND;VALUE=DATE:20251227
DTSTAMP:20260423T155813
CREATED:20251126T202154Z
LAST-MODIFIED:20251126T202154Z
UID:14393-1766707200-1766793599@www.winkleremmc.com
SUMMARY:Boxing Day - Offices Closed
DESCRIPTION:
URL:https://www.winkleremmc.com/event/boxing-day-offices-closed-4/
END:VEVENT
BEGIN:VEVENT
DTSTART;VALUE=DATE:20251228
DTEND;VALUE=DATE:20251229
DTSTAMP:20260423T155813
CREATED:20251126T201802Z
LAST-MODIFIED:20251126T201802Z
UID:14375-1766880000-1766966399@www.winkleremmc.com
SUMMARY:NO Sunday School
DESCRIPTION:
URL:https://www.winkleremmc.com/event/no-sunday-school-21/
END:VEVENT
BEGIN:VEVENT
DTSTART;TZID=America/Winnipeg:20251228T103000
DTEND;TZID=America/Winnipeg:20251228T103000
DTSTAMP:20260423T155813
CREATED:20251126T201913Z
LAST-MODIFIED:20251126T201913Z
UID:14381-1766917800-1766917800@www.winkleremmc.com
SUMMARY:Worship Service
DESCRIPTION:
URL:https://www.winkleremmc.com/event/worship-service-116/
END:VEVENT
END:VCALENDAR