BEGIN:VCALENDAR
VERSION:2.0
PRODID:-//Winkler EMMC - ECPv6.15.10//NONSGML v1.0//EN
CALSCALE:GREGORIAN
METHOD:PUBLISH
X-ORIGINAL-URL:https://www.winkleremmc.com
X-WR-CALDESC:Events for Winkler EMMC
REFRESH-INTERVAL;VALUE=DURATION:PT1H
X-Robots-Tag:noindex
X-PUBLISHED-TTL:PT1H
BEGIN:VTIMEZONE
TZID:America/Winnipeg
BEGIN:DAYLIGHT
TZOFFSETFROM:-0600
TZOFFSETTO:-0500
TZNAME:CDT
DTSTART:20240310T080000
END:DAYLIGHT
BEGIN:STANDARD
TZOFFSETFROM:-0500
TZOFFSETTO:-0600
TZNAME:CST
DTSTART:20241103T070000
END:STANDARD
BEGIN:DAYLIGHT
TZOFFSETFROM:-0600
TZOFFSETTO:-0500
TZNAME:CDT
DTSTART:20250309T080000
END:DAYLIGHT
BEGIN:STANDARD
TZOFFSETFROM:-0500
TZOFFSETTO:-0600
TZNAME:CST
DTSTART:20251102T070000
END:STANDARD
BEGIN:DAYLIGHT
TZOFFSETFROM:-0600
TZOFFSETTO:-0500
TZNAME:CDT
DTSTART:20260308T080000
END:DAYLIGHT
BEGIN:STANDARD
TZOFFSETFROM:-0500
TZOFFSETTO:-0600
TZNAME:CST
DTSTART:20261101T070000
END:STANDARD
END:VTIMEZONE
BEGIN:VEVENT
DTSTART;VALUE=DATE:20250901
DTEND;VALUE=DATE:20250902
DTSTAMP:20260423T204958
CREATED:20250827T182247Z
LAST-MODIFIED:20250827T182247Z
UID:13800-1756684800-1756771199@www.winkleremmc.com
SUMMARY:Labour Day - Offices Closed
DESCRIPTION:
URL:https://www.winkleremmc.com/event/labour-day-offices-closed-3/
END:VEVENT
BEGIN:VEVENT
DTSTART;TZID=America/Winnipeg:20250902T190000
DTEND;TZID=America/Winnipeg:20250902T190000
DTSTAMP:20260423T204958
CREATED:20250827T182324Z
LAST-MODIFIED:20250827T182324Z
UID:13802-1756839600-1756839600@www.winkleremmc.com
SUMMARY:Mission Com Mtg
DESCRIPTION:
URL:https://www.winkleremmc.com/event/mission-com-mtg-26/
END:VEVENT
BEGIN:VEVENT
DTSTART;TZID=America/Winnipeg:20250904T180000
DTEND;TZID=America/Winnipeg:20250904T180000
DTSTAMP:20260423T204958
CREATED:20250827T182409Z
LAST-MODIFIED:20250827T182409Z
UID:13804-1757008800-1757008800@www.winkleremmc.com
SUMMARY:KidMin & Youth Leader Orientation - Supper at 6:00 p.m.\, with orientation to follow
DESCRIPTION:
URL:https://www.winkleremmc.com/event/kidmin-youth-leader-orientation-supper-at-600-p-m-with-orientation-to-follow/
END:VEVENT
BEGIN:VEVENT
DTSTART;TZID=America/Winnipeg:20250907T103000
DTEND;TZID=America/Winnipeg:20250907T103000
DTSTAMP:20260423T204958
CREATED:20250827T182604Z
LAST-MODIFIED:20250827T182604Z
UID:13806-1757241000-1757241000@www.winkleremmc.com
SUMMARY:Outdoor Worship Service & Church Picnic
DESCRIPTION:SAVE THE DATE: SUNDAY\, SEPT. 7 – OUTDOOR SERVICE and CHURCH PICNIC WITH LUNCH AND ACTIVITIES beginning at 10:30 a.m. Included will be a lunch of charcoal BBQ chicken\, hotdogs\, and fries. There will also be games and activities to follow. We are asking for those whose last names begin with A-G to bring dessert\, and for those whose last names start with H-Z to bring salad.
URL:https://www.winkleremmc.com/event/outdoor-worship-service-church-picnic-2/
END:VEVENT
BEGIN:VEVENT
DTSTART;TZID=America/Winnipeg:20250909T091500
DTEND;TZID=America/Winnipeg:20250909T091500
DTSTAMP:20260423T204958
CREATED:20250723T145914Z
LAST-MODIFIED:20250723T145914Z
UID:13751-1757409300-1757409300@www.winkleremmc.com
SUMMARY:Mom's Morning Registration
DESCRIPTION:
URL:https://www.winkleremmc.com/event/moms-morning-registration-2/
END:VEVENT
BEGIN:VEVENT
DTSTART;TZID=America/Winnipeg:20250909T190000
DTEND;TZID=America/Winnipeg:20250909T190000
DTSTAMP:20260423T204958
CREATED:20250827T183011Z
LAST-MODIFIED:20250827T183011Z
UID:13824-1757444400-1757444400@www.winkleremmc.com
SUMMARY:Deacon Com Mtg
DESCRIPTION:
URL:https://www.winkleremmc.com/event/deacon-com-mtg-14/
END:VEVENT
BEGIN:VEVENT
DTSTART;TZID=America/Winnipeg:20250909T190000
DTEND;TZID=America/Winnipeg:20250909T190000
DTSTAMP:20260423T204958
CREATED:20250827T183040Z
LAST-MODIFIED:20250827T183040Z
UID:13826-1757444400-1757444400@www.winkleremmc.com
SUMMARY:Administration Com Mtg
DESCRIPTION:
URL:https://www.winkleremmc.com/event/administration-com-mtg-8/
END:VEVENT
BEGIN:VEVENT
DTSTART;TZID=America/Winnipeg:20250909T190000
DTEND;TZID=America/Winnipeg:20250909T190000
DTSTAMP:20260423T204959
CREATED:20250827T183103Z
LAST-MODIFIED:20250827T183103Z
UID:13828-1757444400-1757444400@www.winkleremmc.com
SUMMARY:Worship Com Mtg
DESCRIPTION:
URL:https://www.winkleremmc.com/event/worship-com-mtg-16/
END:VEVENT
BEGIN:VEVENT
DTSTART;TZID=America/Winnipeg:20250911T190000
DTEND;TZID=America/Winnipeg:20250911T190000
DTSTAMP:20260423T204959
CREATED:20250827T183356Z
LAST-MODIFIED:20250827T183427Z
UID:13840-1757617200-1757617200@www.winkleremmc.com
SUMMARY:Youth
DESCRIPTION:Youth Kick-Off\, Thursday\, Sept. 11\, at 7:00 p.m. in the Hut!!\nYouth this year will be Grades 7-12.
URL:https://www.winkleremmc.com/event/youth/
END:VEVENT
BEGIN:VEVENT
DTSTART;TZID=America/Winnipeg:20250914T090000
DTEND;TZID=America/Winnipeg:20250914T090000
DTSTAMP:20260423T204959
CREATED:20250723T145939Z
LAST-MODIFIED:20250723T145939Z
UID:13753-1757840400-1757840400@www.winkleremmc.com
SUMMARY:Sunday School Begins
DESCRIPTION:
URL:https://www.winkleremmc.com/event/sunday-school-begins/
END:VEVENT
BEGIN:VEVENT
DTSTART;TZID=America/Winnipeg:20250914T103000
DTEND;TZID=America/Winnipeg:20250914T103000
DTSTAMP:20260423T204959
CREATED:20250827T182754Z
LAST-MODIFIED:20250827T182754Z
UID:13814-1757845800-1757845800@www.winkleremmc.com
SUMMARY:Worship Service
DESCRIPTION:
URL:https://www.winkleremmc.com/event/worship-service-103/
END:VEVENT
BEGIN:VEVENT
DTSTART;TZID=America/Winnipeg:20250916T091500
DTEND;TZID=America/Winnipeg:20250916T091500
DTSTAMP:20260423T204959
CREATED:20250827T183138Z
LAST-MODIFIED:20250827T183138Z
UID:13830-1758014100-1758014100@www.winkleremmc.com
SUMMARY:Mom's Morning
DESCRIPTION:
URL:https://www.winkleremmc.com/event/moms-morning-2/
END:VEVENT
BEGIN:VEVENT
DTSTART;TZID=America/Winnipeg:20250916T190000
DTEND;TZID=America/Winnipeg:20250916T190000
DTSTAMP:20260423T204959
CREATED:20250827T183300Z
LAST-MODIFIED:20250827T183300Z
UID:13836-1758049200-1758049200@www.winkleremmc.com
SUMMARY:Church Council Mtg
DESCRIPTION:
URL:https://www.winkleremmc.com/event/church-council-mtg-25/
END:VEVENT
BEGIN:VEVENT
DTSTART;TZID=America/Winnipeg:20250918T190000
DTEND;TZID=America/Winnipeg:20250918T190000
DTSTAMP:20260423T204959
CREATED:20250827T183455Z
LAST-MODIFIED:20250827T183455Z
UID:13843-1758222000-1758222000@www.winkleremmc.com
SUMMARY:Youth
DESCRIPTION:
URL:https://www.winkleremmc.com/event/youth-2/
END:VEVENT
BEGIN:VEVENT
DTSTART;VALUE=DATE:20250919
DTEND;VALUE=DATE:20250920
DTSTAMP:20260423T204959
CREATED:20250827T183536Z
LAST-MODIFIED:20250827T183536Z
UID:13847-1758240000-1758326399@www.winkleremmc.com
SUMMARY:Rental
DESCRIPTION:
URL:https://www.winkleremmc.com/event/rental/
END:VEVENT
BEGIN:VEVENT
DTSTART;TZID=America/Winnipeg:20250921T090000
DTEND;TZID=America/Winnipeg:20250921T090000
DTSTAMP:20260423T204959
CREATED:20250827T182704Z
LAST-MODIFIED:20250827T182704Z
UID:13810-1758445200-1758445200@www.winkleremmc.com
SUMMARY:Sunday School
DESCRIPTION:
URL:https://www.winkleremmc.com/event/sunday-school-66/
END:VEVENT
BEGIN:VEVENT
DTSTART;TZID=America/Winnipeg:20250921T103000
DTEND;TZID=America/Winnipeg:20250921T103000
DTSTAMP:20260423T204959
CREATED:20250827T182815Z
LAST-MODIFIED:20250827T182815Z
UID:13816-1758450600-1758450600@www.winkleremmc.com
SUMMARY:Worship Service
DESCRIPTION:
URL:https://www.winkleremmc.com/event/worship-service-104/
END:VEVENT
BEGIN:VEVENT
DTSTART;TZID=America/Winnipeg:20250922T093000
DTEND;TZID=America/Winnipeg:20250922T093000
DTSTAMP:20260423T204959
CREATED:20250723T150009Z
LAST-MODIFIED:20250723T150009Z
UID:13755-1758533400-1758533400@www.winkleremmc.com
SUMMARY:WOW Bible Study
DESCRIPTION:
URL:https://www.winkleremmc.com/event/wow-bible-study-51/
END:VEVENT
BEGIN:VEVENT
DTSTART;TZID=America/Winnipeg:20250922T190000
DTEND;TZID=America/Winnipeg:20250922T190000
DTSTAMP:20260423T204959
CREATED:20250723T150034Z
LAST-MODIFIED:20250723T150034Z
UID:13757-1758567600-1758567600@www.winkleremmc.com
SUMMARY:WOW Bible Study
DESCRIPTION:
URL:https://www.winkleremmc.com/event/wow-bible-study-52/
END:VEVENT
BEGIN:VEVENT
DTSTART;TZID=America/Winnipeg:20250923T091500
DTEND;TZID=America/Winnipeg:20250923T091500
DTSTAMP:20260423T204959
CREATED:20250827T183211Z
LAST-MODIFIED:20250827T183211Z
UID:13832-1758618900-1758618900@www.winkleremmc.com
SUMMARY:Mom's Morning
DESCRIPTION:
URL:https://www.winkleremmc.com/event/moms-morning-3/
END:VEVENT
BEGIN:VEVENT
DTSTART;TZID=America/Winnipeg:20250925T190000
DTEND;TZID=America/Winnipeg:20250925T190000
DTSTAMP:20260423T204959
CREATED:20250827T183518Z
LAST-MODIFIED:20250827T183518Z
UID:13845-1758826800-1758826800@www.winkleremmc.com
SUMMARY:Youth
DESCRIPTION:
URL:https://www.winkleremmc.com/event/youth-3/
END:VEVENT
BEGIN:VEVENT
DTSTART;TZID=America/Winnipeg:20250926T190000
DTEND;TZID=America/Winnipeg:20250926T190000
DTSTAMP:20260423T204959
CREATED:20250827T183558Z
LAST-MODIFIED:20250827T183558Z
UID:13849-1758913200-1758913200@www.winkleremmc.com
SUMMARY:Young Adults
DESCRIPTION:
URL:https://www.winkleremmc.com/event/young-adults-20/
END:VEVENT
BEGIN:VEVENT
DTSTART;TZID=America/Winnipeg:20250928T090000
DTEND;TZID=America/Winnipeg:20250928T090000
DTSTAMP:20260423T204959
CREATED:20250827T182727Z
LAST-MODIFIED:20250827T182727Z
UID:13812-1759050000-1759050000@www.winkleremmc.com
SUMMARY:Sunday School
DESCRIPTION:
URL:https://www.winkleremmc.com/event/sunday-school-67/
END:VEVENT
BEGIN:VEVENT
DTSTART;TZID=America/Winnipeg:20250928T103000
DTEND;TZID=America/Winnipeg:20250928T103000
DTSTAMP:20260423T204959
CREATED:20250827T182842Z
LAST-MODIFIED:20250827T182842Z
UID:13818-1759055400-1759055400@www.winkleremmc.com
SUMMARY:Worship Service
DESCRIPTION:
URL:https://www.winkleremmc.com/event/worship-service-105/
END:VEVENT
BEGIN:VEVENT
DTSTART;TZID=America/Winnipeg:20250929T093000
DTEND;TZID=America/Winnipeg:20250929T093000
DTSTAMP:20260423T204959
CREATED:20250827T182915Z
LAST-MODIFIED:20250827T182915Z
UID:13820-1759138200-1759138200@www.winkleremmc.com
SUMMARY:WOW Bible Study
DESCRIPTION:
URL:https://www.winkleremmc.com/event/wow-bible-study-53/
END:VEVENT
BEGIN:VEVENT
DTSTART;TZID=America/Winnipeg:20250929T190000
DTEND;TZID=America/Winnipeg:20250929T190000
DTSTAMP:20260423T204959
CREATED:20250827T182942Z
LAST-MODIFIED:20250827T182942Z
UID:13822-1759172400-1759172400@www.winkleremmc.com
SUMMARY:WOW Bible Study
DESCRIPTION:
URL:https://www.winkleremmc.com/event/wow-bible-study-54/
END:VEVENT
BEGIN:VEVENT
DTSTART;VALUE=DATE:20250930
DTEND;VALUE=DATE:20251001
DTSTAMP:20260423T204959
CREATED:20250924T161142Z
LAST-MODIFIED:20250924T161142Z
UID:13909-1759190400-1759276799@www.winkleremmc.com
SUMMARY:Offices Closed - Truth & Reconciliation Day
DESCRIPTION:
URL:https://www.winkleremmc.com/event/offices-closed-truth-reconciliation-day/
END:VEVENT
BEGIN:VEVENT
DTSTART;TZID=America/Winnipeg:20250930T091500
DTEND;TZID=America/Winnipeg:20250930T091500
DTSTAMP:20260423T204959
CREATED:20250827T183238Z
LAST-MODIFIED:20250827T183238Z
UID:13834-1759223700-1759223700@www.winkleremmc.com
SUMMARY:Mom's Morning
DESCRIPTION:
URL:https://www.winkleremmc.com/event/moms-morning-4/
END:VEVENT
BEGIN:VEVENT
DTSTART;TZID=America/Winnipeg:20250930T173000
DTEND;TZID=America/Winnipeg:20250930T173000
DTSTAMP:20260423T204959
CREATED:20250827T183326Z
LAST-MODIFIED:20250924T163451Z
UID:13838-1759253400-1759253400@www.winkleremmc.com
SUMMARY:50 Plus
DESCRIPTION:50+ Supper\, Tuesday\, Sept. 30\, 5:30 p.m.\, in the church fellowship hall. Invitation to all seniors for a soup and pie supper with a thanksgiving theme. Come prepared to share something you are thankful for. Invite a friend. Enjoy food\, fellowship and singing. Please sign up on the sheets provided in the foyer. Donations to help cover costs are welcome. If you have questions\, contact the church office or Verna Towarnicki at 204-325-8456. Please check on the sign-up sheet if a ride is needed or if you are willing to provide a ride.
URL:https://www.winkleremmc.com/event/50-plus-5/
END:VEVENT
END:VCALENDAR