BEGIN:VCALENDAR
VERSION:2.0
PRODID:-//Winkler EMMC - ECPv6.15.10//NONSGML v1.0//EN
CALSCALE:GREGORIAN
METHOD:PUBLISH
X-WR-CALNAME:Winkler EMMC
X-ORIGINAL-URL:https://www.winkleremmc.com
X-WR-CALDESC:Events for Winkler EMMC
REFRESH-INTERVAL;VALUE=DURATION:PT1H
X-Robots-Tag:noindex
X-PUBLISHED-TTL:PT1H
BEGIN:VTIMEZONE
TZID:America/Winnipeg
BEGIN:DAYLIGHT
TZOFFSETFROM:-0600
TZOFFSETTO:-0500
TZNAME:CDT
DTSTART:20240310T080000
END:DAYLIGHT
BEGIN:STANDARD
TZOFFSETFROM:-0500
TZOFFSETTO:-0600
TZNAME:CST
DTSTART:20241103T070000
END:STANDARD
BEGIN:DAYLIGHT
TZOFFSETFROM:-0600
TZOFFSETTO:-0500
TZNAME:CDT
DTSTART:20250309T080000
END:DAYLIGHT
BEGIN:STANDARD
TZOFFSETFROM:-0500
TZOFFSETTO:-0600
TZNAME:CST
DTSTART:20251102T070000
END:STANDARD
BEGIN:DAYLIGHT
TZOFFSETFROM:-0600
TZOFFSETTO:-0500
TZNAME:CDT
DTSTART:20260308T080000
END:DAYLIGHT
BEGIN:STANDARD
TZOFFSETFROM:-0500
TZOFFSETTO:-0600
TZNAME:CST
DTSTART:20261101T070000
END:STANDARD
END:VTIMEZONE
BEGIN:VEVENT
DTSTART;TZID=America/Winnipeg:20250803T103000
DTEND;TZID=America/Winnipeg:20250803T103000
DTSTAMP:20260423T221536
CREATED:20250723T145250Z
LAST-MODIFIED:20250723T145250Z
UID:13725-1754217000-1754217000@www.winkleremmc.com
SUMMARY:Worship Service
DESCRIPTION:
URL:https://www.winkleremmc.com/event/worship-service-99/
END:VEVENT
BEGIN:VEVENT
DTSTART;VALUE=DATE:20250804
DTEND;VALUE=DATE:20250805
DTSTAMP:20260423T221536
CREATED:20250723T145426Z
LAST-MODIFIED:20250723T145426Z
UID:13733-1754265600-1754351999@www.winkleremmc.com
SUMMARY:Terry Fox Day - Offices Closed
DESCRIPTION:
URL:https://www.winkleremmc.com/event/terry-fox-day-offices-closed-3/
END:VEVENT
BEGIN:VEVENT
DTSTART;VALUE=DATE:20250810
DTEND;VALUE=DATE:20250811
DTSTAMP:20260423T221536
CREATED:20250723T150108Z
LAST-MODIFIED:20250723T161837Z
UID:13759-1754784000-1754870399@www.winkleremmc.com
SUMMARY:Harvest Festival Service at Winkler Park.  There will be no service at WEMMC.
DESCRIPTION:Worship Music – 9:45 a.m. \nWorship Service – 10:00 a.m.
URL:https://www.winkleremmc.com/event/harvest-festival-service-at-winkler-park-there-will-be-no-service-at-wemmc/
END:VEVENT
BEGIN:VEVENT
DTSTART;TZID=America/Winnipeg:20250810T190000
DTEND;TZID=America/Winnipeg:20250810T190000
DTSTAMP:20260423T221536
CREATED:20250723T145712Z
LAST-MODIFIED:20250723T145712Z
UID:13747-1754852400-1754852400@www.winkleremmc.com
SUMMARY:Raber Concert
DESCRIPTION:
URL:https://www.winkleremmc.com/event/raber-concert/
END:VEVENT
BEGIN:VEVENT
DTSTART;VALUE=DATE:20250811
DTEND;VALUE=DATE:20250812
DTSTAMP:20260423T221536
CREATED:20250723T145448Z
LAST-MODIFIED:20250723T145448Z
UID:13735-1754870400-1754956799@www.winkleremmc.com
SUMMARY:Offices Closed
DESCRIPTION:
URL:https://www.winkleremmc.com/event/offices-closed-10/
END:VEVENT
BEGIN:VEVENT
DTSTART;TZID=America/Winnipeg:20250813T190000
DTEND;TZID=America/Winnipeg:20250813T190000
DTSTAMP:20260423T221536
CREATED:20250723T145611Z
LAST-MODIFIED:20250723T145611Z
UID:13743-1755111600-1755111600@www.winkleremmc.com
SUMMARY:KidMin Team Mtg
DESCRIPTION:
URL:https://www.winkleremmc.com/event/kidmin-team-mtg-2/
END:VEVENT
BEGIN:VEVENT
DTSTART;TZID=America/Winnipeg:20250815T193000
DTEND;TZID=America/Winnipeg:20250815T193000
DTSTAMP:20260423T221536
CREATED:20250723T145644Z
LAST-MODIFIED:20250723T145644Z
UID:13745-1755286200-1755286200@www.winkleremmc.com
SUMMARY:Lumber River Quartet Concert
DESCRIPTION:
URL:https://www.winkleremmc.com/event/lumber-river-quartet-concert/
END:VEVENT
BEGIN:VEVENT
DTSTART;TZID=America/Winnipeg:20250817T103000
DTEND;TZID=America/Winnipeg:20250817T103000
DTSTAMP:20260423T221536
CREATED:20250723T145314Z
LAST-MODIFIED:20250723T145314Z
UID:13727-1755426600-1755426600@www.winkleremmc.com
SUMMARY:Worship Service
DESCRIPTION:
URL:https://www.winkleremmc.com/event/worship-service-100/
END:VEVENT
BEGIN:VEVENT
DTSTART;VALUE=DATE:20250818
DTEND;VALUE=DATE:20250819
DTSTAMP:20260423T221536
CREATED:20250723T145506Z
LAST-MODIFIED:20250723T145506Z
UID:13737-1755475200-1755561599@www.winkleremmc.com
SUMMARY:Offices Closed
DESCRIPTION:
URL:https://www.winkleremmc.com/event/offices-closed-11/
END:VEVENT
BEGIN:VEVENT
DTSTART;TZID=America/Winnipeg:20250819T190000
DTEND;TZID=America/Winnipeg:20250819T190000
DTSTAMP:20260423T221536
CREATED:20250723T145550Z
LAST-MODIFIED:20250723T145550Z
UID:13741-1755630000-1755630000@www.winkleremmc.com
SUMMARY:Church Council Mtg
DESCRIPTION:
URL:https://www.winkleremmc.com/event/church-council-mtg-24/
END:VEVENT
BEGIN:VEVENT
DTSTART;TZID=America/Winnipeg:20250824T103000
DTEND;TZID=America/Winnipeg:20250824T103000
DTSTAMP:20260423T221536
CREATED:20250723T145334Z
LAST-MODIFIED:20250723T145334Z
UID:13729-1756031400-1756031400@www.winkleremmc.com
SUMMARY:Worship Service
DESCRIPTION:
URL:https://www.winkleremmc.com/event/worship-service-101/
END:VEVENT
BEGIN:VEVENT
DTSTART;VALUE=DATE:20250825
DTEND;VALUE=DATE:20250826
DTSTAMP:20260423T221536
CREATED:20250723T145521Z
LAST-MODIFIED:20250723T145521Z
UID:13739-1756080000-1756166399@www.winkleremmc.com
SUMMARY:Offices Closed
DESCRIPTION:
URL:https://www.winkleremmc.com/event/offices-closed-12/
END:VEVENT
BEGIN:VEVENT
DTSTART;TZID=America/Winnipeg:20250831T103000
DTEND;TZID=America/Winnipeg:20250831T103000
DTSTAMP:20260423T221536
CREATED:20250723T145358Z
LAST-MODIFIED:20250723T145358Z
UID:13731-1756636200-1756636200@www.winkleremmc.com
SUMMARY:Worship Service
DESCRIPTION:
URL:https://www.winkleremmc.com/event/worship-service-102/
END:VEVENT
END:VCALENDAR