BEGIN:VCALENDAR
VERSION:2.0
PRODID:-//Winkler EMMC - ECPv6.15.10//NONSGML v1.0//EN
CALSCALE:GREGORIAN
METHOD:PUBLISH
X-ORIGINAL-URL:https://www.winkleremmc.com
X-WR-CALDESC:Events for Winkler EMMC
REFRESH-INTERVAL;VALUE=DURATION:PT1H
X-Robots-Tag:noindex
X-PUBLISHED-TTL:PT1H
BEGIN:VTIMEZONE
TZID:America/Winnipeg
BEGIN:DAYLIGHT
TZOFFSETFROM:-0600
TZOFFSETTO:-0500
TZNAME:CDT
DTSTART:20240310T080000
END:DAYLIGHT
BEGIN:STANDARD
TZOFFSETFROM:-0500
TZOFFSETTO:-0600
TZNAME:CST
DTSTART:20241103T070000
END:STANDARD
BEGIN:DAYLIGHT
TZOFFSETFROM:-0600
TZOFFSETTO:-0500
TZNAME:CDT
DTSTART:20250309T080000
END:DAYLIGHT
BEGIN:STANDARD
TZOFFSETFROM:-0500
TZOFFSETTO:-0600
TZNAME:CST
DTSTART:20251102T070000
END:STANDARD
BEGIN:DAYLIGHT
TZOFFSETFROM:-0600
TZOFFSETTO:-0500
TZNAME:CDT
DTSTART:20260308T080000
END:DAYLIGHT
BEGIN:STANDARD
TZOFFSETFROM:-0500
TZOFFSETTO:-0600
TZNAME:CST
DTSTART:20261101T070000
END:STANDARD
END:VTIMEZONE
BEGIN:VEVENT
DTSTART;TZID=America/Winnipeg:20250601T090000
DTEND;TZID=America/Winnipeg:20250601T090000
DTSTAMP:20260424T013729
CREATED:20250521T162426Z
LAST-MODIFIED:20250521T162426Z
UID:13576-1748768400-1748768400@www.winkleremmc.com
SUMMARY:Sunday School Wind-Up
DESCRIPTION:
URL:https://www.winkleremmc.com/event/sunday-school-wind-up/
END:VEVENT
BEGIN:VEVENT
DTSTART;TZID=America/Winnipeg:20250601T103000
DTEND;TZID=America/Winnipeg:20250601T103000
DTSTAMP:20260424T013729
CREATED:20250521T162455Z
LAST-MODIFIED:20250521T162455Z
UID:13578-1748773800-1748773800@www.winkleremmc.com
SUMMARY:Worship Service
DESCRIPTION:
URL:https://www.winkleremmc.com/event/worship-service-90/
END:VEVENT
BEGIN:VEVENT
DTSTART;TZID=America/Winnipeg:20250602T180000
DTEND;TZID=America/Winnipeg:20250602T210000
DTSTAMP:20260424T013729
CREATED:20250423T185809Z
LAST-MODIFIED:20250423T185809Z
UID:13513-1748887200-1748898000@www.winkleremmc.com
SUMMARY:Jr. Youth Wrap-Up
DESCRIPTION:
URL:https://www.winkleremmc.com/event/jr-youth-wrap-up/
END:VEVENT
BEGIN:VEVENT
DTSTART;TZID=America/Winnipeg:20250603T190000
DTEND;TZID=America/Winnipeg:20250603T190000
DTSTAMP:20260424T013729
CREATED:20250521T162750Z
LAST-MODIFIED:20250521T162750Z
UID:13590-1748977200-1748977200@www.winkleremmc.com
SUMMARY:Mission Com Meeting
DESCRIPTION:
URL:https://www.winkleremmc.com/event/mission-com-meeting-2/
END:VEVENT
BEGIN:VEVENT
DTSTART;TZID=America/Winnipeg:20250605T180000
DTEND;TZID=America/Winnipeg:20250605T210000
DTSTAMP:20260424T013729
CREATED:20250423T185846Z
LAST-MODIFIED:20250423T185846Z
UID:13515-1749146400-1749157200@www.winkleremmc.com
SUMMARY:Sr. Youth Wrap-Up
DESCRIPTION:
URL:https://www.winkleremmc.com/event/sr-youth-wrap-up/
END:VEVENT
BEGIN:VEVENT
DTSTART;TZID=America/Winnipeg:20250607T190000
DTEND;TZID=America/Winnipeg:20250607T190000
DTSTAMP:20260424T013729
CREATED:20250423T185914Z
LAST-MODIFIED:20250423T185914Z
UID:13517-1749322800-1749322800@www.winkleremmc.com
SUMMARY:Back to the Bible Anniversary Event
DESCRIPTION:
URL:https://www.winkleremmc.com/event/back-to-the-bible-anniversary-event/
END:VEVENT
BEGIN:VEVENT
DTSTART;TZID=America/Winnipeg:20250608T090000
DTEND;TZID=America/Winnipeg:20250608T090000
DTSTAMP:20260424T013729
CREATED:20250521T162717Z
LAST-MODIFIED:20250521T162717Z
UID:13588-1749373200-1749373200@www.winkleremmc.com
SUMMARY:Mother's/Father's Day Morning Coffee
DESCRIPTION:Mother’s Day/Father’s Day Morning Coffee: Join the Sunday School for morning coffee on June 8 from 9-10:20 a.m. in celebration of Mothers and Fathers. Please bring something to share! Cheese\, fruit\, pastries\, etc. Feel free to get creative and meet us in the Fellowship Hall.
URL:https://www.winkleremmc.com/event/mothers-fathers-day-morning-coffee/
END:VEVENT
BEGIN:VEVENT
DTSTART;TZID=America/Winnipeg:20250608T103000
DTEND;TZID=America/Winnipeg:20250608T103000
DTSTAMP:20260424T013729
CREATED:20250521T162518Z
LAST-MODIFIED:20250521T162518Z
UID:13580-1749378600-1749378600@www.winkleremmc.com
SUMMARY:Worship Service
DESCRIPTION:
URL:https://www.winkleremmc.com/event/worship-service-91/
END:VEVENT
BEGIN:VEVENT
DTSTART;TZID=America/Winnipeg:20250610T173000
DTEND;TZID=America/Winnipeg:20250610T173000
DTSTAMP:20260424T013729
CREATED:20250521T162836Z
LAST-MODIFIED:20250521T162836Z
UID:13592-1749576600-1749576600@www.winkleremmc.com
SUMMARY:50+ BBQ
DESCRIPTION:50+ BBQ Supper\, Tuesday\, June 10\, 5:30 p.m.\, in the basement fellowship hall. Invitation to all seniors for a BBQ supper. Invite a friend. Come enjoy food\, fellowship and music. Please sign up on the sheet provided in the foyer. Donations to help cover the cost are welcome. If you have questions\, you may contact the church office or Verna Towarnicki at 204-325-8456. Please check on the sign-up sheet if a ride is needed or if you are willing to provide a ride.
URL:https://www.winkleremmc.com/event/50-bbq/
END:VEVENT
BEGIN:VEVENT
DTSTART;TZID=America/Winnipeg:20250610T190000
DTEND;TZID=America/Winnipeg:20250610T190000
DTSTAMP:20260424T013729
CREATED:20250521T162902Z
LAST-MODIFIED:20250521T162902Z
UID:13594-1749582000-1749582000@www.winkleremmc.com
SUMMARY:Administration Com Meeting
DESCRIPTION:
URL:https://www.winkleremmc.com/event/administration-com-meeting/
END:VEVENT
BEGIN:VEVENT
DTSTART;TZID=America/Winnipeg:20250611T190000
DTEND;TZID=America/Winnipeg:20250611T190000
DTSTAMP:20260424T013729
CREATED:20250521T162954Z
LAST-MODIFIED:20250521T162954Z
UID:13598-1749668400-1749668400@www.winkleremmc.com
SUMMARY:Worship Com Meeting
DESCRIPTION:
URL:https://www.winkleremmc.com/event/worship-com-meeting-2/
END:VEVENT
BEGIN:VEVENT
DTSTART;TZID=America/Winnipeg:20250615T103000
DTEND;TZID=America/Winnipeg:20250615T103000
DTSTAMP:20260424T013729
CREATED:20250521T162545Z
LAST-MODIFIED:20250521T162545Z
UID:13582-1749983400-1749983400@www.winkleremmc.com
SUMMARY:Worship Service
DESCRIPTION:
URL:https://www.winkleremmc.com/event/worship-service-92/
END:VEVENT
BEGIN:VEVENT
DTSTART;TZID=America/Winnipeg:20250617T190000
DTEND;TZID=America/Winnipeg:20250617T190000
DTSTAMP:20260424T013729
CREATED:20250521T162927Z
LAST-MODIFIED:20250521T162927Z
UID:13596-1750186800-1750186800@www.winkleremmc.com
SUMMARY:Church Council Mtg
DESCRIPTION:
URL:https://www.winkleremmc.com/event/church-council-mtg-23/
END:VEVENT
BEGIN:VEVENT
DTSTART;VALUE=DATE:20250620
DTEND;VALUE=DATE:20250622
DTSTAMP:20260424T013729
CREATED:20250521T163016Z
LAST-MODIFIED:20250521T163016Z
UID:13600-1750377600-1750550399@www.winkleremmc.com
SUMMARY:Wedding
DESCRIPTION:
URL:https://www.winkleremmc.com/event/wedding-2/
END:VEVENT
BEGIN:VEVENT
DTSTART;TZID=America/Winnipeg:20250622T103000
DTEND;TZID=America/Winnipeg:20250622T103000
DTSTAMP:20260424T013729
CREATED:20250521T162606Z
LAST-MODIFIED:20250521T162606Z
UID:13584-1750588200-1750588200@www.winkleremmc.com
SUMMARY:Worship Service
DESCRIPTION:
URL:https://www.winkleremmc.com/event/worship-service-93/
END:VEVENT
BEGIN:VEVENT
DTSTART;TZID=America/Winnipeg:20250629T103000
DTEND;TZID=America/Winnipeg:20250629T103000
DTSTAMP:20260424T013729
CREATED:20250521T162627Z
LAST-MODIFIED:20250521T162627Z
UID:13586-1751193000-1751193000@www.winkleremmc.com
SUMMARY:Worship Service
DESCRIPTION:
URL:https://www.winkleremmc.com/event/worship-service-94/
END:VEVENT
BEGIN:VEVENT
DTSTART;VALUE=DATE:20250630
DTEND;VALUE=DATE:20250701
DTSTAMP:20260424T013729
CREATED:20250627T160141Z
LAST-MODIFIED:20250627T160141Z
UID:13689-1751241600-1751327999@www.winkleremmc.com
SUMMARY:Offices Closed
DESCRIPTION:
URL:https://www.winkleremmc.com/event/offices-closed-9/
END:VEVENT
END:VCALENDAR