BEGIN:VCALENDAR
VERSION:2.0
PRODID:-//Winkler EMMC - ECPv6.15.10//NONSGML v1.0//EN
CALSCALE:GREGORIAN
METHOD:PUBLISH
X-WR-CALNAME:Winkler EMMC
X-ORIGINAL-URL:https://www.winkleremmc.com
X-WR-CALDESC:Events for Winkler EMMC
REFRESH-INTERVAL;VALUE=DURATION:PT1H
X-Robots-Tag:noindex
X-PUBLISHED-TTL:PT1H
BEGIN:VTIMEZONE
TZID:America/Winnipeg
BEGIN:DAYLIGHT
TZOFFSETFROM:-0600
TZOFFSETTO:-0500
TZNAME:CDT
DTSTART:20240310T080000
END:DAYLIGHT
BEGIN:STANDARD
TZOFFSETFROM:-0500
TZOFFSETTO:-0600
TZNAME:CST
DTSTART:20241103T070000
END:STANDARD
BEGIN:DAYLIGHT
TZOFFSETFROM:-0600
TZOFFSETTO:-0500
TZNAME:CDT
DTSTART:20250309T080000
END:DAYLIGHT
BEGIN:STANDARD
TZOFFSETFROM:-0500
TZOFFSETTO:-0600
TZNAME:CST
DTSTART:20251102T070000
END:STANDARD
BEGIN:DAYLIGHT
TZOFFSETFROM:-0600
TZOFFSETTO:-0500
TZNAME:CDT
DTSTART:20260308T080000
END:DAYLIGHT
BEGIN:STANDARD
TZOFFSETFROM:-0500
TZOFFSETTO:-0600
TZNAME:CST
DTSTART:20261101T070000
END:STANDARD
END:VTIMEZONE
BEGIN:VEVENT
DTSTART;TZID=America/Winnipeg:20250501T190000
DTEND;TZID=America/Winnipeg:20250501T190000
DTSTAMP:20260424T031538
CREATED:20250423T183542Z
LAST-MODIFIED:20250423T185153Z
UID:13456-1746126000-1746126000@www.winkleremmc.com
SUMMARY:Sr. Youth
DESCRIPTION:
URL:https://www.winkleremmc.com/event/sr-youth-81/
END:VEVENT
BEGIN:VEVENT
DTSTART;TZID=America/Winnipeg:20250504T090000
DTEND;TZID=America/Winnipeg:20250504T090000
DTSTAMP:20260424T031538
CREATED:20250326T161015Z
LAST-MODIFIED:20250326T161015Z
UID:13383-1746349200-1746349200@www.winkleremmc.com
SUMMARY:Renew(ed) for parents & caregivers
DESCRIPTION:
URL:https://www.winkleremmc.com/event/renewed-for-parents-caregivers-11/
END:VEVENT
BEGIN:VEVENT
DTSTART;TZID=America/Winnipeg:20250504T090000
DTEND;TZID=America/Winnipeg:20250504T090000
DTSTAMP:20260424T031538
CREATED:20250423T183909Z
LAST-MODIFIED:20250423T183909Z
UID:13462-1746349200-1746349200@www.winkleremmc.com
SUMMARY:Sunday School (No Adult SS)
DESCRIPTION:
URL:https://www.winkleremmc.com/event/sunday-school-no-adult-ss-5/
END:VEVENT
BEGIN:VEVENT
DTSTART;TZID=America/Winnipeg:20250504T103000
DTEND;TZID=America/Winnipeg:20250504T103000
DTSTAMP:20260424T031538
CREATED:20250423T184052Z
LAST-MODIFIED:20250423T184052Z
UID:13470-1746354600-1746354600@www.winkleremmc.com
SUMMARY:Worship Service
DESCRIPTION:
URL:https://www.winkleremmc.com/event/worship-service-86/
END:VEVENT
BEGIN:VEVENT
DTSTART;TZID=America/Winnipeg:20250504T120000
DTEND;TZID=America/Winnipeg:20250504T120000
DTSTAMP:20260424T031538
CREATED:20250326T161049Z
LAST-MODIFIED:20250423T185710Z
UID:13385-1746360000-1746360000@www.winkleremmc.com
SUMMARY:Food Team Fundraiser Lunch
DESCRIPTION:The Food Team would like to invite you to a fundraising lunch after the service on Sunday\, May 4. The funds raised would go toward the process of making our kitchen cupboards\, pantry storage more efficient and updating with some needed appliances. On the menu is roast beef dinner with apple pie & ice cream for dessert. If you would like to help with preparation\, serving & clean-up\, please sign up in the foyer.
URL:https://www.winkleremmc.com/event/food-team-fundraiser-lunch/
END:VEVENT
BEGIN:VEVENT
DTSTART;TZID=America/Winnipeg:20250505T190000
DTEND;TZID=America/Winnipeg:20250505T190000
DTSTAMP:20260424T031538
CREATED:20250423T184241Z
LAST-MODIFIED:20250423T184241Z
UID:13478-1746471600-1746471600@www.winkleremmc.com
SUMMARY:Jr. Youth
DESCRIPTION:
URL:https://www.winkleremmc.com/event/jr-youth-73/
END:VEVENT
BEGIN:VEVENT
DTSTART;TZID=America/Winnipeg:20250506T190000
DTEND;TZID=America/Winnipeg:20250506T190000
DTSTAMP:20260424T031538
CREATED:20250423T184416Z
LAST-MODIFIED:20250423T184416Z
UID:13486-1746558000-1746558000@www.winkleremmc.com
SUMMARY:Deacon Com Mtg
DESCRIPTION:
URL:https://www.winkleremmc.com/event/deacon-com-mtg-13/
END:VEVENT
BEGIN:VEVENT
DTSTART;TZID=America/Winnipeg:20250507T190000
DTEND;TZID=America/Winnipeg:20250507T190000
DTSTAMP:20260424T031538
CREATED:20250423T184615Z
LAST-MODIFIED:20250423T184615Z
UID:13496-1746644400-1746644400@www.winkleremmc.com
SUMMARY:KidMin Team Mtg
DESCRIPTION:
URL:https://www.winkleremmc.com/event/kidmin-team-mtg/
END:VEVENT
BEGIN:VEVENT
DTSTART;TZID=America/Winnipeg:20250508T190000
DTEND;TZID=America/Winnipeg:20250508T190000
DTSTAMP:20260424T031538
CREATED:20250423T183805Z
LAST-MODIFIED:20250423T183805Z
UID:13458-1746730800-1746730800@www.winkleremmc.com
SUMMARY:Sr. Youth
DESCRIPTION:
URL:https://www.winkleremmc.com/event/sr-youth-82/
END:VEVENT
BEGIN:VEVENT
DTSTART;TZID=America/Winnipeg:20250509T190000
DTEND;TZID=America/Winnipeg:20250509T190000
DTSTAMP:20260424T031538
CREATED:20250423T185015Z
LAST-MODIFIED:20250423T185015Z
UID:13506-1746817200-1746817200@www.winkleremmc.com
SUMMARY:Young Adults
DESCRIPTION:
URL:https://www.winkleremmc.com/event/young-adults-19/
END:VEVENT
BEGIN:VEVENT
DTSTART;TZID=America/Winnipeg:20250511T090000
DTEND;TZID=America/Winnipeg:20250511T090000
DTSTAMP:20260424T031538
CREATED:20250423T183933Z
LAST-MODIFIED:20250423T185413Z
UID:13464-1746954000-1746954000@www.winkleremmc.com
SUMMARY:Sunday School
DESCRIPTION:
URL:https://www.winkleremmc.com/event/sunday-school-63/
END:VEVENT
BEGIN:VEVENT
DTSTART;TZID=America/Winnipeg:20250511T103000
DTEND;TZID=America/Winnipeg:20250511T103000
DTSTAMP:20260424T031538
CREATED:20250423T184120Z
LAST-MODIFIED:20250423T184120Z
UID:13472-1746959400-1746959400@www.winkleremmc.com
SUMMARY:Worship Service
DESCRIPTION:
URL:https://www.winkleremmc.com/event/worship-service-87/
END:VEVENT
BEGIN:VEVENT
DTSTART;TZID=America/Winnipeg:20250512T190000
DTEND;TZID=America/Winnipeg:20250512T190000
DTSTAMP:20260424T031538
CREATED:20250423T184305Z
LAST-MODIFIED:20250423T184305Z
UID:13480-1747076400-1747076400@www.winkleremmc.com
SUMMARY:Jr. Youth
DESCRIPTION:
URL:https://www.winkleremmc.com/event/jr-youth-74/
END:VEVENT
BEGIN:VEVENT
DTSTART;TZID=America/Winnipeg:20250513T190000
DTEND;TZID=America/Winnipeg:20250513T190000
DTSTAMP:20260424T031538
CREATED:20250423T184438Z
LAST-MODIFIED:20250423T184438Z
UID:13488-1747162800-1747162800@www.winkleremmc.com
SUMMARY:Administration Com Mtg
DESCRIPTION:
URL:https://www.winkleremmc.com/event/administration-com-mtg-7/
END:VEVENT
BEGIN:VEVENT
DTSTART;TZID=America/Winnipeg:20250513T190000
DTEND;TZID=America/Winnipeg:20250513T190000
DTSTAMP:20260424T031538
CREATED:20250423T184459Z
LAST-MODIFIED:20250423T184459Z
UID:13490-1747162800-1747162800@www.winkleremmc.com
SUMMARY:Worship Com Mtg
DESCRIPTION:
URL:https://www.winkleremmc.com/event/worship-com-mtg-15/
END:VEVENT
BEGIN:VEVENT
DTSTART;TZID=America/Winnipeg:20250513T190000
DTEND;TZID=America/Winnipeg:20250513T190000
DTSTAMP:20260424T031538
CREATED:20250423T184521Z
LAST-MODIFIED:20250423T184521Z
UID:13492-1747162800-1747162800@www.winkleremmc.com
SUMMARY:Mission Com Mtg
DESCRIPTION:
URL:https://www.winkleremmc.com/event/mission-com-mtg-25/
END:VEVENT
BEGIN:VEVENT
DTSTART;TZID=America/Winnipeg:20250515T190000
DTEND;TZID=America/Winnipeg:20250515T190000
DTSTAMP:20260424T031538
CREATED:20250423T183831Z
LAST-MODIFIED:20250423T183831Z
UID:13460-1747335600-1747335600@www.winkleremmc.com
SUMMARY:Sr. Youth
DESCRIPTION:
URL:https://www.winkleremmc.com/event/sr-youth-83/
END:VEVENT
BEGIN:VEVENT
DTSTART;VALUE=DATE:20250517
DTEND;VALUE=DATE:20250520
DTSTAMP:20260424T031538
CREATED:20250423T185042Z
LAST-MODIFIED:20250423T185042Z
UID:13508-1747440000-1747699199@www.winkleremmc.com
SUMMARY:Young Adults Retreat
DESCRIPTION:
URL:https://www.winkleremmc.com/event/young-adults-retreat/
END:VEVENT
BEGIN:VEVENT
DTSTART;VALUE=DATE:20250518
DTEND;VALUE=DATE:20250519
DTSTAMP:20260424T031538
CREATED:20250423T183958Z
LAST-MODIFIED:20250423T185510Z
UID:13466-1747526400-1747612799@www.winkleremmc.com
SUMMARY:NO Sunday School
DESCRIPTION:
URL:https://www.winkleremmc.com/event/no-sunday-school-18/
END:VEVENT
BEGIN:VEVENT
DTSTART;TZID=America/Winnipeg:20250518T103000
DTEND;TZID=America/Winnipeg:20250518T103000
DTSTAMP:20260424T031538
CREATED:20250423T185549Z
LAST-MODIFIED:20250423T185549Z
UID:13510-1747564200-1747564200@www.winkleremmc.com
SUMMARY:Worship Service
DESCRIPTION:
URL:https://www.winkleremmc.com/event/worship-service-89/
END:VEVENT
BEGIN:VEVENT
DTSTART;VALUE=DATE:20250519
DTEND;VALUE=DATE:20250520
DTSTAMP:20260424T031538
CREATED:20250423T184327Z
LAST-MODIFIED:20250423T184327Z
UID:13482-1747612800-1747699199@www.winkleremmc.com
SUMMARY:Victoria Day - Offices Closed
DESCRIPTION:
URL:https://www.winkleremmc.com/event/victoria-day-offices-closed-3/
END:VEVENT
BEGIN:VEVENT
DTSTART;TZID=America/Winnipeg:20250520T190000
DTEND;TZID=America/Winnipeg:20250520T190000
DTSTAMP:20260424T031538
CREATED:20250423T184544Z
LAST-MODIFIED:20250423T184544Z
UID:13494-1747767600-1747767600@www.winkleremmc.com
SUMMARY:Church Council Mtg
DESCRIPTION:
URL:https://www.winkleremmc.com/event/church-council-mtg-22/
END:VEVENT
BEGIN:VEVENT
DTSTART;VALUE=DATE:20250521
DTEND;VALUE=DATE:20250522
DTSTAMP:20260424T031538
CREATED:20250423T184657Z
LAST-MODIFIED:20250423T184657Z
UID:13498-1747785600-1747871999@www.winkleremmc.com
SUMMARY:"The River" at Winkler Park
DESCRIPTION:
URL:https://www.winkleremmc.com/event/the-river-at-winkler-park/
END:VEVENT
BEGIN:VEVENT
DTSTART;TZID=America/Winnipeg:20250521T190000
DTEND;TZID=America/Winnipeg:20250521T190000
DTSTAMP:20260424T031538
CREATED:20250423T184743Z
LAST-MODIFIED:20250423T184743Z
UID:13500-1747854000-1747854000@www.winkleremmc.com
SUMMARY:3 Heath Brothers - One Hope Canada Fundraising Concert
DESCRIPTION:
URL:https://www.winkleremmc.com/event/3-heath-brothers-one-hope-canada-fundraising-concert/
END:VEVENT
BEGIN:VEVENT
DTSTART;TZID=America/Winnipeg:20250525T090000
DTEND;TZID=America/Winnipeg:20250525T090000
DTSTAMP:20260424T031538
CREATED:20250423T184020Z
LAST-MODIFIED:20250423T184020Z
UID:13468-1748163600-1748163600@www.winkleremmc.com
SUMMARY:Sunday School
DESCRIPTION:
URL:https://www.winkleremmc.com/event/sunday-school-64/
END:VEVENT
BEGIN:VEVENT
DTSTART;TZID=America/Winnipeg:20250525T103000
DTEND;TZID=America/Winnipeg:20250525T103000
DTSTAMP:20260424T031538
CREATED:20250423T184144Z
LAST-MODIFIED:20250423T184144Z
UID:13474-1748169000-1748169000@www.winkleremmc.com
SUMMARY:Worship Service
DESCRIPTION:
URL:https://www.winkleremmc.com/event/worship-service-88/
END:VEVENT
BEGIN:VEVENT
DTSTART;TZID=America/Winnipeg:20250525T120000
DTEND;TZID=America/Winnipeg:20250525T120000
DTSTAMP:20260424T031538
CREATED:20250423T184213Z
LAST-MODIFIED:20250423T184213Z
UID:13476-1748174400-1748174400@www.winkleremmc.com
SUMMARY:Newcomers Lunch
DESCRIPTION:
URL:https://www.winkleremmc.com/event/newcomers-lunch/
END:VEVENT
BEGIN:VEVENT
DTSTART;TZID=America/Winnipeg:20250526T190000
DTEND;TZID=America/Winnipeg:20250526T190000
DTSTAMP:20260424T031538
CREATED:20250423T184352Z
LAST-MODIFIED:20250423T184352Z
UID:13484-1748286000-1748286000@www.winkleremmc.com
SUMMARY:Jr. Youth
DESCRIPTION:
URL:https://www.winkleremmc.com/event/jr-youth-75/
END:VEVENT
BEGIN:VEVENT
DTSTART;TZID=America/Winnipeg:20250529T190000
DTEND;TZID=America/Winnipeg:20250529T190000
DTSTAMP:20260424T031538
CREATED:20250423T184909Z
LAST-MODIFIED:20250423T184909Z
UID:13502-1748545200-1748545200@www.winkleremmc.com
SUMMARY:Women's Spring Event
DESCRIPTION:Save the Date: Women’s Spring In the Valley event with Lana Alencar speaking on “Finding Joy in Life’s Valleys”. Thursday\, May 29\, 7:00 p.m.\, WEMMC Fellowship Hall. There will be a sign-up table in the foyer on May 11 & 18. Tickets are $5 and bring a friend is optional. If you have any questions\, come see one of the committee members: Judy Zacharias\, Tracey Friesen\, Becky Wall. It’s a spring event\, so come in your spring colors
URL:https://www.winkleremmc.com/event/womens-spring-event/
END:VEVENT
BEGIN:VEVENT
DTSTART;TZID=America/Winnipeg:20250529T190000
DTEND;TZID=America/Winnipeg:20250529T190000
DTSTAMP:20260424T031538
CREATED:20250423T184951Z
LAST-MODIFIED:20250423T184951Z
UID:13504-1748545200-1748545200@www.winkleremmc.com
SUMMARY:Sr. Youth
DESCRIPTION:
URL:https://www.winkleremmc.com/event/sr-youth-84/
END:VEVENT
END:VCALENDAR