BEGIN:VCALENDAR
VERSION:2.0
PRODID:-//Winkler EMMC - ECPv6.15.10//NONSGML v1.0//EN
CALSCALE:GREGORIAN
METHOD:PUBLISH
X-ORIGINAL-URL:https://www.winkleremmc.com
X-WR-CALDESC:Events for Winkler EMMC
REFRESH-INTERVAL;VALUE=DURATION:PT1H
X-Robots-Tag:noindex
X-PUBLISHED-TTL:PT1H
BEGIN:VTIMEZONE
TZID:America/Winnipeg
BEGIN:DAYLIGHT
TZOFFSETFROM:-0600
TZOFFSETTO:-0500
TZNAME:CDT
DTSTART:20240310T080000
END:DAYLIGHT
BEGIN:STANDARD
TZOFFSETFROM:-0500
TZOFFSETTO:-0600
TZNAME:CST
DTSTART:20241103T070000
END:STANDARD
BEGIN:DAYLIGHT
TZOFFSETFROM:-0600
TZOFFSETTO:-0500
TZNAME:CDT
DTSTART:20250309T080000
END:DAYLIGHT
BEGIN:STANDARD
TZOFFSETFROM:-0500
TZOFFSETTO:-0600
TZNAME:CST
DTSTART:20251102T070000
END:STANDARD
BEGIN:DAYLIGHT
TZOFFSETFROM:-0600
TZOFFSETTO:-0500
TZNAME:CDT
DTSTART:20260308T080000
END:DAYLIGHT
BEGIN:STANDARD
TZOFFSETFROM:-0500
TZOFFSETTO:-0600
TZNAME:CST
DTSTART:20261101T070000
END:STANDARD
END:VTIMEZONE
BEGIN:VEVENT
DTSTART;TZID=America/Winnipeg:20250401T190000
DTEND;TZID=America/Winnipeg:20250401T190000
DTSTAMP:20260424T055725
CREATED:20250326T152724Z
LAST-MODIFIED:20250326T152724Z
UID:13332-1743534000-1743534000@www.winkleremmc.com
SUMMARY:Mission Com Mtg
DESCRIPTION:
URL:https://www.winkleremmc.com/event/mission-com-mtg-24/
CATEGORIES:MemberOnly
END:VEVENT
BEGIN:VEVENT
DTSTART;VALUE=DATE:20250402
DTEND;VALUE=DATE:20250403
DTSTAMP:20260424T055725
CREATED:20250326T152750Z
LAST-MODIFIED:20250326T152750Z
UID:13334-1743552000-1743638399@www.winkleremmc.com
SUMMARY:Church Offices Closed to Manitoba Hydro Outage
DESCRIPTION:
URL:https://www.winkleremmc.com/event/church-offices-closed-to-manitoba-hydro-outage/
END:VEVENT
BEGIN:VEVENT
DTSTART;VALUE=DATE:20250404
DTEND;VALUE=DATE:20250405
DTSTAMP:20260424T055725
CREATED:20250326T152905Z
LAST-MODIFIED:20250326T152905Z
UID:13338-1743724800-1743811199@www.winkleremmc.com
SUMMARY:Fellowship Hall Booking
DESCRIPTION:
URL:https://www.winkleremmc.com/event/fellowship-hall-booking-5/
END:VEVENT
BEGIN:VEVENT
DTSTART;TZID=America/Winnipeg:20250404T190000
DTEND;TZID=America/Winnipeg:20250404T190000
DTSTAMP:20260424T055725
CREATED:20250326T152819Z
LAST-MODIFIED:20250326T152819Z
UID:13336-1743793200-1743793200@www.winkleremmc.com
SUMMARY:Young Adults
DESCRIPTION:
URL:https://www.winkleremmc.com/event/young-adults-17/
END:VEVENT
BEGIN:VEVENT
DTSTART;VALUE=DATE:20250406
DTEND;VALUE=DATE:20250407
DTSTAMP:20260424T055725
CREATED:20250326T152935Z
LAST-MODIFIED:20250326T152935Z
UID:13340-1743897600-1743983999@www.winkleremmc.com
SUMMARY:No Sunday School
DESCRIPTION:No
URL:https://www.winkleremmc.com/event/no-sunday-school-17/
END:VEVENT
BEGIN:VEVENT
DTSTART;TZID=America/Winnipeg:20250406T103000
DTEND;TZID=America/Winnipeg:20250406T103000
DTSTAMP:20260424T055725
CREATED:20250219T204237Z
LAST-MODIFIED:20250219T204237Z
UID:13225-1743935400-1743935400@www.winkleremmc.com
SUMMARY:Baptism/Membership Service
DESCRIPTION:
URL:https://www.winkleremmc.com/event/baptism-membership-service-3/
END:VEVENT
BEGIN:VEVENT
DTSTART;TZID=America/Winnipeg:20250407T190000
DTEND;TZID=America/Winnipeg:20250407T190000
DTSTAMP:20260424T055725
CREATED:20250326T153012Z
LAST-MODIFIED:20250326T153012Z
UID:13342-1744052400-1744052400@www.winkleremmc.com
SUMMARY:Jr. Youth
DESCRIPTION:
URL:https://www.winkleremmc.com/event/jr-youth-70/
END:VEVENT
BEGIN:VEVENT
DTSTART;TZID=America/Winnipeg:20250408T173000
DTEND;TZID=America/Winnipeg:20250408T173000
DTSTAMP:20260424T055725
CREATED:20250326T160137Z
LAST-MODIFIED:20250326T160137Z
UID:13349-1744133400-1744133400@www.winkleremmc.com
SUMMARY:50 Plus Supper
DESCRIPTION:50+ Supper\, Tuesday\, Apr. 8\, 5:30 p.m. in the Church Fellowship Hall. Invitation to all seniors for supper. Invite a friend. Come enjoy food\, fellowship and singing. Please sign up on the sheets provided in the foyer. Donations to help cover costs are welcome. If you have questions\, you may contact the church office or Verna Towarnicki at 204-325-8456. Please check on the sign-up sheet if a ride is needed or if you are willing to provide a ride.
URL:https://www.winkleremmc.com/event/50-plus-supper/
END:VEVENT
BEGIN:VEVENT
DTSTART;TZID=America/Winnipeg:20250408T190000
DTEND;TZID=America/Winnipeg:20250408T190000
DTSTAMP:20260424T055725
CREATED:20250326T155800Z
LAST-MODIFIED:20250326T155800Z
UID:13344-1744138800-1744138800@www.winkleremmc.com
SUMMARY:Administration Com Mtg
DESCRIPTION:
URL:https://www.winkleremmc.com/event/administration-com-mtg-6/
END:VEVENT
BEGIN:VEVENT
DTSTART;TZID=America/Winnipeg:20250408T190000
DTEND;TZID=America/Winnipeg:20250408T190000
DTSTAMP:20260424T055725
CREATED:20250326T160010Z
LAST-MODIFIED:20250326T160010Z
UID:13347-1744138800-1744138800@www.winkleremmc.com
SUMMARY:Worship Com Mtg
DESCRIPTION:
URL:https://www.winkleremmc.com/event/worship-com-mtg-14/
END:VEVENT
BEGIN:VEVENT
DTSTART;TZID=America/Winnipeg:20250410T190000
DTEND;TZID=America/Winnipeg:20250410T190000
DTSTAMP:20260424T055725
CREATED:20250327T204916Z
LAST-MODIFIED:20250327T204916Z
UID:13391-1744311600-1744311600@www.winkleremmc.com
SUMMARY:Sr. Youth
DESCRIPTION:
URL:https://www.winkleremmc.com/event/sr-youth-79/
END:VEVENT
BEGIN:VEVENT
DTSTART;VALUE=DATE:20250411
DTEND;VALUE=DATE:20250412
DTSTAMP:20260424T055725
CREATED:20250326T161317Z
LAST-MODIFIED:20250326T161317Z
UID:13387-1744329600-1744415999@www.winkleremmc.com
SUMMARY:Fellowship Hall Booking
DESCRIPTION:
URL:https://www.winkleremmc.com/event/fellowship-hall-booking-6/
END:VEVENT
BEGIN:VEVENT
DTSTART;TZID=America/Winnipeg:20250412T091500
DTEND;TZID=America/Winnipeg:20250412T091500
DTSTAMP:20260424T055725
CREATED:20250326T160307Z
LAST-MODIFIED:20250326T160307Z
UID:13353-1744449300-1744449300@www.winkleremmc.com
SUMMARY:Worship Workshop
DESCRIPTION:
URL:https://www.winkleremmc.com/event/worship-workshop/
END:VEVENT
BEGIN:VEVENT
DTSTART;TZID=America/Winnipeg:20250413T090000
DTEND;TZID=America/Winnipeg:20250413T090000
DTSTAMP:20260424T055725
CREATED:20250326T160343Z
LAST-MODIFIED:20250326T160343Z
UID:13355-1744534800-1744534800@www.winkleremmc.com
SUMMARY:Renew(ed) for parents & caregivers
DESCRIPTION:
URL:https://www.winkleremmc.com/event/renewed-for-parents-caregivers-10/
END:VEVENT
BEGIN:VEVENT
DTSTART;TZID=America/Winnipeg:20250413T090000
DTEND;TZID=America/Winnipeg:20250413T090000
DTSTAMP:20260424T055725
CREATED:20250326T160409Z
LAST-MODIFIED:20250326T160409Z
UID:13357-1744534800-1744534800@www.winkleremmc.com
SUMMARY:Sunday School
DESCRIPTION:
URL:https://www.winkleremmc.com/event/sunday-school-60/
END:VEVENT
BEGIN:VEVENT
DTSTART;TZID=America/Winnipeg:20250413T103000
DTEND;TZID=America/Winnipeg:20250413T103000
DTSTAMP:20260424T055725
CREATED:20250326T160432Z
LAST-MODIFIED:20250326T160432Z
UID:13359-1744540200-1744540200@www.winkleremmc.com
SUMMARY:Worship Service
DESCRIPTION:
URL:https://www.winkleremmc.com/event/worship-service-84/
END:VEVENT
BEGIN:VEVENT
DTSTART;TZID=America/Winnipeg:20250414T190000
DTEND;TZID=America/Winnipeg:20250414T190000
DTSTAMP:20260424T055725
CREATED:20250326T160454Z
LAST-MODIFIED:20250326T160454Z
UID:13361-1744657200-1744657200@www.winkleremmc.com
SUMMARY:Jr. Youth
DESCRIPTION:
URL:https://www.winkleremmc.com/event/jr-youth-71/
END:VEVENT
BEGIN:VEVENT
DTSTART;TZID=America/Winnipeg:20250415T093000
DTEND;TZID=America/Winnipeg:20250415T093000
DTSTAMP:20260424T055725
CREATED:20250326T160520Z
LAST-MODIFIED:20250326T160520Z
UID:13363-1744709400-1744709400@www.winkleremmc.com
SUMMARY:Mom's Morning Stay & Play
DESCRIPTION:
URL:https://www.winkleremmc.com/event/moms-morning-stay-play-4/
END:VEVENT
BEGIN:VEVENT
DTSTART;TZID=America/Winnipeg:20250415T190000
DTEND;TZID=America/Winnipeg:20250415T190000
DTSTAMP:20260424T055725
CREATED:20250326T160542Z
LAST-MODIFIED:20250326T160542Z
UID:13365-1744743600-1744743600@www.winkleremmc.com
SUMMARY:Church Council Mtg
DESCRIPTION:
URL:https://www.winkleremmc.com/event/church-council-mtg-21/
END:VEVENT
BEGIN:VEVENT
DTSTART;TZID=America/Winnipeg:20250417T190000
DTEND;TZID=America/Winnipeg:20250417T190000
DTSTAMP:20260424T055725
CREATED:20250327T204943Z
LAST-MODIFIED:20250327T204943Z
UID:13393-1744916400-1744916400@www.winkleremmc.com
SUMMARY:Sr. Youth
DESCRIPTION:
URL:https://www.winkleremmc.com/event/sr-youth-80/
END:VEVENT
BEGIN:VEVENT
DTSTART;TZID=America/Winnipeg:20250418T103000
DTEND;TZID=America/Winnipeg:20250418T103000
DTSTAMP:20260424T055725
CREATED:20250219T204305Z
LAST-MODIFIED:20250219T204305Z
UID:13227-1744972200-1744972200@www.winkleremmc.com
SUMMARY:Good Friday Communion Service
DESCRIPTION:
URL:https://www.winkleremmc.com/event/good-friday-communion-service-3/
END:VEVENT
BEGIN:VEVENT
DTSTART;TZID=America/Winnipeg:20250420T090000
DTEND;TZID=America/Winnipeg:20250420T090000
DTSTAMP:20260424T055725
CREATED:20250326T160623Z
LAST-MODIFIED:20250326T160623Z
UID:13367-1745139600-1745139600@www.winkleremmc.com
SUMMARY:Sunday School
DESCRIPTION:
URL:https://www.winkleremmc.com/event/sunday-school-61/
END:VEVENT
BEGIN:VEVENT
DTSTART;TZID=America/Winnipeg:20250420T103000
DTEND;TZID=America/Winnipeg:20250420T103000
DTSTAMP:20260424T055725
CREATED:20250219T204332Z
LAST-MODIFIED:20250219T204332Z
UID:13229-1745145000-1745145000@www.winkleremmc.com
SUMMARY:Easter Sunday Worship Service
DESCRIPTION:
URL:https://www.winkleremmc.com/event/easter-sunday-worship-service/
END:VEVENT
BEGIN:VEVENT
DTSTART;VALUE=DATE:20250421
DTEND;VALUE=DATE:20250422
DTSTAMP:20260424T055725
CREATED:20250326T160719Z
LAST-MODIFIED:20250326T160719Z
UID:13371-1745193600-1745279999@www.winkleremmc.com
SUMMARY:Easter Monday - Offices Closed
DESCRIPTION:
URL:https://www.winkleremmc.com/event/easter-monday-offices-closed-3/
END:VEVENT
BEGIN:VEVENT
DTSTART;TZID=America/Winnipeg:20250424T190000
DTEND;TZID=America/Winnipeg:20250424T190000
DTSTAMP:20260424T055725
CREATED:20250326T160744Z
LAST-MODIFIED:20250326T160744Z
UID:13373-1745521200-1745521200@www.winkleremmc.com
SUMMARY:Sr. Youth
DESCRIPTION:
URL:https://www.winkleremmc.com/event/sr-youth-78/
END:VEVENT
BEGIN:VEVENT
DTSTART;TZID=America/Winnipeg:20250425T190000
DTEND;TZID=America/Winnipeg:20250425T190000
DTSTAMP:20260424T055725
CREATED:20250326T160810Z
LAST-MODIFIED:20250326T160810Z
UID:13375-1745607600-1745607600@www.winkleremmc.com
SUMMARY:Young Adults
DESCRIPTION:
URL:https://www.winkleremmc.com/event/young-adults-18/
END:VEVENT
BEGIN:VEVENT
DTSTART;TZID=America/Winnipeg:20250427T090000
DTEND;TZID=America/Winnipeg:20250427T090000
DTSTAMP:20260424T055725
CREATED:20250326T160832Z
LAST-MODIFIED:20250326T160832Z
UID:13377-1745744400-1745744400@www.winkleremmc.com
SUMMARY:Sunday School
DESCRIPTION:
URL:https://www.winkleremmc.com/event/sunday-school-62/
END:VEVENT
BEGIN:VEVENT
DTSTART;TZID=America/Winnipeg:20250427T103000
DTEND;TZID=America/Winnipeg:20250427T103000
DTSTAMP:20260424T055725
CREATED:20250326T160901Z
LAST-MODIFIED:20250326T160901Z
UID:13379-1745749800-1745749800@www.winkleremmc.com
SUMMARY:Worship Service
DESCRIPTION:
URL:https://www.winkleremmc.com/event/worship-service-85/
END:VEVENT
BEGIN:VEVENT
DTSTART;TZID=America/Winnipeg:20250428T190000
DTEND;TZID=America/Winnipeg:20250428T190000
DTSTAMP:20260424T055725
CREATED:20250326T160926Z
LAST-MODIFIED:20250326T160926Z
UID:13381-1745866800-1745866800@www.winkleremmc.com
SUMMARY:Jr. Youth
DESCRIPTION:
URL:https://www.winkleremmc.com/event/jr-youth-72/
END:VEVENT
END:VCALENDAR