BEGIN:VCALENDAR
VERSION:2.0
PRODID:-//Winkler EMMC - ECPv6.15.10//NONSGML v1.0//EN
CALSCALE:GREGORIAN
METHOD:PUBLISH
X-ORIGINAL-URL:https://www.winkleremmc.com
X-WR-CALDESC:Events for Winkler EMMC
REFRESH-INTERVAL;VALUE=DURATION:PT1H
X-Robots-Tag:noindex
X-PUBLISHED-TTL:PT1H
BEGIN:VTIMEZONE
TZID:America/Winnipeg
BEGIN:DAYLIGHT
TZOFFSETFROM:-0600
TZOFFSETTO:-0500
TZNAME:CDT
DTSTART:20240310T080000
END:DAYLIGHT
BEGIN:STANDARD
TZOFFSETFROM:-0500
TZOFFSETTO:-0600
TZNAME:CST
DTSTART:20241103T070000
END:STANDARD
BEGIN:DAYLIGHT
TZOFFSETFROM:-0600
TZOFFSETTO:-0500
TZNAME:CDT
DTSTART:20250309T080000
END:DAYLIGHT
BEGIN:STANDARD
TZOFFSETFROM:-0500
TZOFFSETTO:-0600
TZNAME:CST
DTSTART:20251102T070000
END:STANDARD
BEGIN:DAYLIGHT
TZOFFSETFROM:-0600
TZOFFSETTO:-0500
TZNAME:CDT
DTSTART:20260308T080000
END:DAYLIGHT
BEGIN:STANDARD
TZOFFSETFROM:-0500
TZOFFSETTO:-0600
TZNAME:CST
DTSTART:20261101T070000
END:STANDARD
END:VTIMEZONE
BEGIN:VEVENT
DTSTART;TZID=America/Winnipeg:20250302T090000
DTEND;TZID=America/Winnipeg:20250302T090000
DTSTAMP:20260424T074046
CREATED:20250219T201937Z
LAST-MODIFIED:20250219T201937Z
UID:13157-1740906000-1740906000@www.winkleremmc.com
SUMMARY:Sunday School
DESCRIPTION:
URL:https://www.winkleremmc.com/event/sunday-school-56/
END:VEVENT
BEGIN:VEVENT
DTSTART;TZID=America/Winnipeg:20250302T103000
DTEND;TZID=America/Winnipeg:20250302T103000
DTSTAMP:20260424T074046
CREATED:20250219T203005Z
LAST-MODIFIED:20250219T203005Z
UID:13167-1740911400-1740911400@www.winkleremmc.com
SUMMARY:Worship Service
DESCRIPTION:
URL:https://www.winkleremmc.com/event/worship-service-79/
END:VEVENT
BEGIN:VEVENT
DTSTART;TZID=America/Winnipeg:20250302T120000
DTEND;TZID=America/Winnipeg:20250302T120000
DTSTAMP:20260424T074046
CREATED:20250219T203221Z
LAST-MODIFIED:20250219T203221Z
UID:13177-1740916800-1740916800@www.winkleremmc.com
SUMMARY:In Christ Alone Ladies Lunch
DESCRIPTION:For the In Christ Alone Ladies (ladies who are alone due to death or divorce or separation)\, we would love to have you join us on Sunday\, Mar. 2\, for lunch right after the church service in the church basement/fellowship hall. Please check your mailbox for an invitation. If you did not receive an invitation or have any questions\, please call Susan Enns at 204-362-6840. If you need a ride to or from the event\, please call Lori Dueck at 204-325-8292.
URL:https://www.winkleremmc.com/event/in-christ-alone-ladies-lunch-4/
END:VEVENT
BEGIN:VEVENT
DTSTART;TZID=America/Winnipeg:20250303T093000
DTEND;TZID=America/Winnipeg:20250303T093000
DTSTAMP:20260424T074046
CREATED:20250219T203345Z
LAST-MODIFIED:20250219T203345Z
UID:13183-1740994200-1740994200@www.winkleremmc.com
SUMMARY:WOW Bible Study
DESCRIPTION:
URL:https://www.winkleremmc.com/event/wow-bible-study-49/
END:VEVENT
BEGIN:VEVENT
DTSTART;TZID=America/Winnipeg:20250303T190000
DTEND;TZID=America/Winnipeg:20250303T190000
DTSTAMP:20260424T074046
CREATED:20250219T203410Z
LAST-MODIFIED:20250219T203410Z
UID:13185-1741028400-1741028400@www.winkleremmc.com
SUMMARY:WOW Bible Study
DESCRIPTION:
URL:https://www.winkleremmc.com/event/wow-bible-study-50/
END:VEVENT
BEGIN:VEVENT
DTSTART;TZID=America/Winnipeg:20250303T190000
DTEND;TZID=America/Winnipeg:20250303T190000
DTSTAMP:20260424T074046
CREATED:20250219T203434Z
LAST-MODIFIED:20250219T203434Z
UID:13187-1741028400-1741028400@www.winkleremmc.com
SUMMARY:Jr. Youth
DESCRIPTION:
URL:https://www.winkleremmc.com/event/jr-youth-66/
END:VEVENT
BEGIN:VEVENT
DTSTART;TZID=America/Winnipeg:20250304T190000
DTEND;TZID=America/Winnipeg:20250304T190000
DTSTAMP:20260424T074046
CREATED:20250219T203558Z
LAST-MODIFIED:20250219T203558Z
UID:13195-1741114800-1741114800@www.winkleremmc.com
SUMMARY:Mission Com Mtg
DESCRIPTION:
URL:https://www.winkleremmc.com/event/mission-com-mtg-23/
END:VEVENT
BEGIN:VEVENT
DTSTART;TZID=America/Winnipeg:20250304T190000
DTEND;TZID=America/Winnipeg:20250304T190000
DTSTAMP:20260424T074046
CREATED:20250219T203625Z
LAST-MODIFIED:20250219T203625Z
UID:13197-1741114800-1741114800@www.winkleremmc.com
SUMMARY:Deacon Com Mtg
DESCRIPTION:
URL:https://www.winkleremmc.com/event/deacon-com-mtg-12/
END:VEVENT
BEGIN:VEVENT
DTSTART;TZID=America/Winnipeg:20250306T190000
DTEND;TZID=America/Winnipeg:20250306T190000
DTSTAMP:20260424T074046
CREATED:20250219T203835Z
LAST-MODIFIED:20250219T203835Z
UID:13207-1741287600-1741287600@www.winkleremmc.com
SUMMARY:Sr. Youth
DESCRIPTION:
URL:https://www.winkleremmc.com/event/sr-youth-73/
END:VEVENT
BEGIN:VEVENT
DTSTART;TZID=America/Winnipeg:20250307T190000
DTEND;TZID=America/Winnipeg:20250307T190000
DTSTAMP:20260424T074046
CREATED:20250219T204000Z
LAST-MODIFIED:20250219T204000Z
UID:13215-1741374000-1741374000@www.winkleremmc.com
SUMMARY:Young Adults
DESCRIPTION:
URL:https://www.winkleremmc.com/event/young-adults-15/
END:VEVENT
BEGIN:VEVENT
DTSTART;VALUE=DATE:20250308
DTEND;VALUE=DATE:20250309
DTSTAMP:20260424T074046
CREATED:20250219T204151Z
LAST-MODIFIED:20250219T204151Z
UID:13221-1741392000-1741478399@www.winkleremmc.com
SUMMARY:Switch to Daylight Saving Time
DESCRIPTION:
URL:https://www.winkleremmc.com/event/switch-to-daylight-saving-time/
END:VEVENT
BEGIN:VEVENT
DTSTART;TZID=America/Winnipeg:20250309T090000
DTEND;TZID=America/Winnipeg:20250309T090000
DTSTAMP:20260424T074046
CREATED:20250219T202005Z
LAST-MODIFIED:20250219T202005Z
UID:13159-1741510800-1741510800@www.winkleremmc.com
SUMMARY:Sunday School
DESCRIPTION:
URL:https://www.winkleremmc.com/event/sunday-school-57/
END:VEVENT
BEGIN:VEVENT
DTSTART;TZID=America/Winnipeg:20250309T090000
DTEND;TZID=America/Winnipeg:20250309T090000
DTSTAMP:20260424T074046
CREATED:20250219T203247Z
LAST-MODIFIED:20250219T203247Z
UID:13179-1741510800-1741510800@www.winkleremmc.com
SUMMARY:Renew(ed) for parents & caregivers
DESCRIPTION:
URL:https://www.winkleremmc.com/event/renewed-for-parents-caregivers-9/
END:VEVENT
BEGIN:VEVENT
DTSTART;TZID=America/Winnipeg:20250309T103000
DTEND;TZID=America/Winnipeg:20250309T103000
DTSTAMP:20260424T074046
CREATED:20250219T203029Z
LAST-MODIFIED:20250219T203029Z
UID:13169-1741516200-1741516200@www.winkleremmc.com
SUMMARY:Worship Service
DESCRIPTION:
URL:https://www.winkleremmc.com/event/worship-service-80/
END:VEVENT
BEGIN:VEVENT
DTSTART;TZID=America/Winnipeg:20250310T190000
DTEND;TZID=America/Winnipeg:20250310T190000
DTSTAMP:20260424T074046
CREATED:20250219T203454Z
LAST-MODIFIED:20250219T203454Z
UID:13189-1741633200-1741633200@www.winkleremmc.com
SUMMARY:Jr. Youth
DESCRIPTION:
URL:https://www.winkleremmc.com/event/jr-youth-67/
END:VEVENT
BEGIN:VEVENT
DTSTART;TZID=America/Winnipeg:20250311T190000
DTEND;TZID=America/Winnipeg:20250311T190000
DTSTAMP:20260424T074046
CREATED:20250219T203651Z
LAST-MODIFIED:20250219T203651Z
UID:13199-1741719600-1741719600@www.winkleremmc.com
SUMMARY:Administration Com Mtg
DESCRIPTION:
URL:https://www.winkleremmc.com/event/administration-com-mtg-5/
END:VEVENT
BEGIN:VEVENT
DTSTART;TZID=America/Winnipeg:20250311T190000
DTEND;TZID=America/Winnipeg:20250311T190000
DTSTAMP:20260424T074046
CREATED:20250219T203712Z
LAST-MODIFIED:20250219T203712Z
UID:13201-1741719600-1741719600@www.winkleremmc.com
SUMMARY:Worship Com Mtg
DESCRIPTION:
URL:https://www.winkleremmc.com/event/worship-com-mtg-13/
END:VEVENT
BEGIN:VEVENT
DTSTART;TZID=America/Winnipeg:20250313T190000
DTEND;TZID=America/Winnipeg:20250313T190000
DTSTAMP:20260424T074046
CREATED:20250219T203856Z
LAST-MODIFIED:20250219T203856Z
UID:13209-1741892400-1741892400@www.winkleremmc.com
SUMMARY:Sr. Youth
DESCRIPTION:
URL:https://www.winkleremmc.com/event/sr-youth-74/
END:VEVENT
BEGIN:VEVENT
DTSTART;TZID=America/Winnipeg:20250314T190000
DTEND;TZID=America/Winnipeg:20250314T190000
DTSTAMP:20260424T074046
CREATED:20250219T204059Z
LAST-MODIFIED:20250219T204059Z
UID:13217-1741978800-1741978800@www.winkleremmc.com
SUMMARY:Community Parents Equipping Night - Gospel Mission Church
DESCRIPTION:Parent Training Event with Sid Koop: Wise Parenting in the Digital World. Friday\, Mar. 14\, 7-9 pm at the Gospel Mission Church.
URL:https://www.winkleremmc.com/event/community-parents-equipping-night-gospel-mission-church/
END:VEVENT
BEGIN:VEVENT
DTSTART;TZID=America/Winnipeg:20250316T090000
DTEND;TZID=America/Winnipeg:20250316T090000
DTSTAMP:20260424T074046
CREATED:20250219T202026Z
LAST-MODIFIED:20250219T202026Z
UID:13161-1742115600-1742115600@www.winkleremmc.com
SUMMARY:Sunday School
DESCRIPTION:
URL:https://www.winkleremmc.com/event/sunday-school-58/
END:VEVENT
BEGIN:VEVENT
DTSTART;TZID=America/Winnipeg:20250316T103000
DTEND;TZID=America/Winnipeg:20250316T103000
DTSTAMP:20260424T074046
CREATED:20250219T203049Z
LAST-MODIFIED:20250219T203049Z
UID:13171-1742121000-1742121000@www.winkleremmc.com
SUMMARY:Worship Service
DESCRIPTION:
URL:https://www.winkleremmc.com/event/worship-service-81/
END:VEVENT
BEGIN:VEVENT
DTSTART;TZID=America/Winnipeg:20250316T120000
DTEND;TZID=America/Winnipeg:20250316T120000
DTSTAMP:20260424T074046
CREATED:20250219T203322Z
LAST-MODIFIED:20250219T203322Z
UID:13181-1742126400-1742126400@www.winkleremmc.com
SUMMARY:Meal Auction following the service
DESCRIPTION:
URL:https://www.winkleremmc.com/event/meal-auction-following-the-service/
END:VEVENT
BEGIN:VEVENT
DTSTART;TZID=America/Winnipeg:20250317T190000
DTEND;TZID=America/Winnipeg:20250317T190000
DTSTAMP:20260424T074046
CREATED:20250219T203516Z
LAST-MODIFIED:20250219T203516Z
UID:13191-1742238000-1742238000@www.winkleremmc.com
SUMMARY:Jr. Youth
DESCRIPTION:
URL:https://www.winkleremmc.com/event/jr-youth-68/
END:VEVENT
BEGIN:VEVENT
DTSTART;TZID=America/Winnipeg:20250318T093000
DTEND;TZID=America/Winnipeg:20250318T093000
DTSTAMP:20260424T074046
CREATED:20250219T203745Z
LAST-MODIFIED:20250219T203745Z
UID:13203-1742290200-1742290200@www.winkleremmc.com
SUMMARY:Mom's Morning Stay & Play
DESCRIPTION:
URL:https://www.winkleremmc.com/event/moms-morning-stay-play-3/
END:VEVENT
BEGIN:VEVENT
DTSTART;TZID=America/Winnipeg:20250318T190000
DTEND;TZID=America/Winnipeg:20250318T190000
DTSTAMP:20260424T074046
CREATED:20250219T203810Z
LAST-MODIFIED:20250219T203810Z
UID:13205-1742324400-1742324400@www.winkleremmc.com
SUMMARY:Church Council Mtg
DESCRIPTION:
URL:https://www.winkleremmc.com/event/church-council-mtg-20/
END:VEVENT
BEGIN:VEVENT
DTSTART;TZID=America/Winnipeg:20250320T190000
DTEND;TZID=America/Winnipeg:20250320T190000
DTSTAMP:20260424T074046
CREATED:20250219T203915Z
LAST-MODIFIED:20250219T203915Z
UID:13211-1742497200-1742497200@www.winkleremmc.com
SUMMARY:Sr. Youth
DESCRIPTION:
URL:https://www.winkleremmc.com/event/sr-youth-75/
END:VEVENT
BEGIN:VEVENT
DTSTART;TZID=America/Winnipeg:20250321T190000
DTEND;TZID=America/Winnipeg:20250321T190000
DTSTAMP:20260424T074046
CREATED:20250219T204120Z
LAST-MODIFIED:20250219T204120Z
UID:13219-1742583600-1742583600@www.winkleremmc.com
SUMMARY:Young Adults
DESCRIPTION:
URL:https://www.winkleremmc.com/event/young-adults-16/
END:VEVENT
BEGIN:VEVENT
DTSTART;TZID=America/Winnipeg:20250323T090000
DTEND;TZID=America/Winnipeg:20250323T090000
DTSTAMP:20260424T074046
CREATED:20250219T202050Z
LAST-MODIFIED:20250219T202050Z
UID:13163-1742720400-1742720400@www.winkleremmc.com
SUMMARY:Sunday School
DESCRIPTION:
URL:https://www.winkleremmc.com/event/sunday-school-59/
END:VEVENT
BEGIN:VEVENT
DTSTART;TZID=America/Winnipeg:20250323T103000
DTEND;TZID=America/Winnipeg:20250323T103000
DTSTAMP:20260424T074046
CREATED:20250219T203112Z
LAST-MODIFIED:20250219T203112Z
UID:13173-1742725800-1742725800@www.winkleremmc.com
SUMMARY:Worship Service
DESCRIPTION:
URL:https://www.winkleremmc.com/event/worship-service-82/
END:VEVENT
BEGIN:VEVENT
DTSTART;TZID=America/Winnipeg:20250324T190000
DTEND;TZID=America/Winnipeg:20250324T190000
DTSTAMP:20260424T074046
CREATED:20250219T203535Z
LAST-MODIFIED:20250219T203535Z
UID:13193-1742842800-1742842800@www.winkleremmc.com
SUMMARY:Jr. Youth
DESCRIPTION:
URL:https://www.winkleremmc.com/event/jr-youth-69/
END:VEVENT
END:VCALENDAR