BEGIN:VCALENDAR
VERSION:2.0
PRODID:-//Winkler EMMC - ECPv6.15.10//NONSGML v1.0//EN
CALSCALE:GREGORIAN
METHOD:PUBLISH
X-ORIGINAL-URL:https://www.winkleremmc.com
X-WR-CALDESC:Events for Winkler EMMC
REFRESH-INTERVAL;VALUE=DURATION:PT1H
X-Robots-Tag:noindex
X-PUBLISHED-TTL:PT1H
BEGIN:VTIMEZONE
TZID:America/Winnipeg
BEGIN:DAYLIGHT
TZOFFSETFROM:-0600
TZOFFSETTO:-0500
TZNAME:CDT
DTSTART:20240310T080000
END:DAYLIGHT
BEGIN:STANDARD
TZOFFSETFROM:-0500
TZOFFSETTO:-0600
TZNAME:CST
DTSTART:20241103T070000
END:STANDARD
BEGIN:DAYLIGHT
TZOFFSETFROM:-0600
TZOFFSETTO:-0500
TZNAME:CDT
DTSTART:20250309T080000
END:DAYLIGHT
BEGIN:STANDARD
TZOFFSETFROM:-0500
TZOFFSETTO:-0600
TZNAME:CST
DTSTART:20251102T070000
END:STANDARD
BEGIN:DAYLIGHT
TZOFFSETFROM:-0600
TZOFFSETTO:-0500
TZNAME:CDT
DTSTART:20260308T080000
END:DAYLIGHT
BEGIN:STANDARD
TZOFFSETFROM:-0500
TZOFFSETTO:-0600
TZNAME:CST
DTSTART:20261101T070000
END:STANDARD
END:VTIMEZONE
BEGIN:VEVENT
DTSTART;VALUE=DATE:20250131
DTEND;VALUE=DATE:20250203
DTSTAMP:20260424T091845
CREATED:20241223T203015Z
LAST-MODIFIED:20241223T203015Z
UID:13008-1738281600-1738540799@www.winkleremmc.com
SUMMARY:Youth Retreat
DESCRIPTION:
URL:https://www.winkleremmc.com/event/youth-retreat/
END:VEVENT
BEGIN:VEVENT
DTSTART;TZID=America/Winnipeg:20250202T090000
DTEND;TZID=America/Winnipeg:20250202T090000
DTSTAMP:20260424T091845
CREATED:20250123T153934Z
LAST-MODIFIED:20250123T153934Z
UID:13050-1738486800-1738486800@www.winkleremmc.com
SUMMARY:Sunday School
DESCRIPTION:
URL:https://www.winkleremmc.com/event/sunday-school-53/
END:VEVENT
BEGIN:VEVENT
DTSTART;TZID=America/Winnipeg:20250202T103000
DTEND;TZID=America/Winnipeg:20250202T103000
DTSTAMP:20260424T091845
CREATED:20250123T154109Z
LAST-MODIFIED:20250123T154109Z
UID:13058-1738492200-1738492200@www.winkleremmc.com
SUMMARY:Worship Service
DESCRIPTION:
URL:https://www.winkleremmc.com/event/worship-service-75/
END:VEVENT
BEGIN:VEVENT
DTSTART;TZID=America/Winnipeg:20250203T093000
DTEND;TZID=America/Winnipeg:20250203T093000
DTSTAMP:20260424T091845
CREATED:20250123T154307Z
LAST-MODIFIED:20250123T154307Z
UID:13068-1738575000-1738575000@www.winkleremmc.com
SUMMARY:WOW Bible Study
DESCRIPTION:
URL:https://www.winkleremmc.com/event/wow-bible-study-43/
END:VEVENT
BEGIN:VEVENT
DTSTART;TZID=America/Winnipeg:20250203T190000
DTEND;TZID=America/Winnipeg:20250203T190000
DTSTAMP:20260424T091845
CREATED:20250123T154336Z
LAST-MODIFIED:20250123T154336Z
UID:13070-1738609200-1738609200@www.winkleremmc.com
SUMMARY:WOW Bible Study
DESCRIPTION:
URL:https://www.winkleremmc.com/event/wow-bible-study-44/
END:VEVENT
BEGIN:VEVENT
DTSTART;TZID=America/Winnipeg:20250204T190000
DTEND;TZID=America/Winnipeg:20250204T190000
DTSTAMP:20260424T091845
CREATED:20250123T154632Z
LAST-MODIFIED:20250123T154632Z
UID:13086-1738695600-1738695600@www.winkleremmc.com
SUMMARY:Mission Com Mtg
DESCRIPTION:
URL:https://www.winkleremmc.com/event/mission-com-mtg-22/
END:VEVENT
BEGIN:VEVENT
DTSTART;TZID=America/Winnipeg:20250206T190000
DTEND;TZID=America/Winnipeg:20250206T190000
DTSTAMP:20260424T091845
CREATED:20250123T154909Z
LAST-MODIFIED:20250123T154909Z
UID:13098-1738868400-1738868400@www.winkleremmc.com
SUMMARY:Sr. Youth
DESCRIPTION:
URL:https://www.winkleremmc.com/event/sr-youth-69/
END:VEVENT
BEGIN:VEVENT
DTSTART;TZID=America/Winnipeg:20250207T190000
DTEND;TZID=America/Winnipeg:20250207T190000
DTSTAMP:20260424T091845
CREATED:20250123T155039Z
LAST-MODIFIED:20250123T155039Z
UID:13106-1738954800-1738954800@www.winkleremmc.com
SUMMARY:Young Adults
DESCRIPTION:
URL:https://www.winkleremmc.com/event/young-adults-13/
END:VEVENT
BEGIN:VEVENT
DTSTART;TZID=America/Winnipeg:20250209T090000
DTEND;TZID=America/Winnipeg:20250209T090000
DTSTAMP:20260424T091845
CREATED:20250123T153957Z
LAST-MODIFIED:20250123T153957Z
UID:13052-1739091600-1739091600@www.winkleremmc.com
SUMMARY:Sunday School
DESCRIPTION:
URL:https://www.winkleremmc.com/event/sunday-school-54/
END:VEVENT
BEGIN:VEVENT
DTSTART;TZID=America/Winnipeg:20250209T090000
DTEND;TZID=America/Winnipeg:20250209T090000
DTSTAMP:20260424T091845
CREATED:20250123T154242Z
LAST-MODIFIED:20250123T154242Z
UID:13066-1739091600-1739091600@www.winkleremmc.com
SUMMARY:Renew(ed) for parents & caregivers
DESCRIPTION:
URL:https://www.winkleremmc.com/event/renewed-for-parents-caregivers-8/
END:VEVENT
BEGIN:VEVENT
DTSTART;TZID=America/Winnipeg:20250209T103000
DTEND;TZID=America/Winnipeg:20250209T103000
DTSTAMP:20260424T091845
CREATED:20250123T154132Z
LAST-MODIFIED:20250123T154132Z
UID:13060-1739097000-1739097000@www.winkleremmc.com
SUMMARY:Worship Service
DESCRIPTION:
URL:https://www.winkleremmc.com/event/worship-service-76/
END:VEVENT
BEGIN:VEVENT
DTSTART;TZID=America/Winnipeg:20250210T093000
DTEND;TZID=America/Winnipeg:20250210T093000
DTSTAMP:20260424T091845
CREATED:20250123T154357Z
LAST-MODIFIED:20250123T154357Z
UID:13072-1739179800-1739179800@www.winkleremmc.com
SUMMARY:WOW Bible Study
DESCRIPTION:
URL:https://www.winkleremmc.com/event/wow-bible-study-45/
END:VEVENT
BEGIN:VEVENT
DTSTART;TZID=America/Winnipeg:20250210T190000
DTEND;TZID=America/Winnipeg:20250210T190000
DTSTAMP:20260424T091845
CREATED:20250123T154416Z
LAST-MODIFIED:20250123T154416Z
UID:13074-1739214000-1739214000@www.winkleremmc.com
SUMMARY:WOW Bible Study
DESCRIPTION:
URL:https://www.winkleremmc.com/event/wow-bible-study-46/
END:VEVENT
BEGIN:VEVENT
DTSTART;TZID=America/Winnipeg:20250210T190000
DTEND;TZID=America/Winnipeg:20250210T190000
DTSTAMP:20260424T091845
CREATED:20250123T154530Z
LAST-MODIFIED:20250123T154530Z
UID:13080-1739214000-1739214000@www.winkleremmc.com
SUMMARY:Jr. Youth
DESCRIPTION:
URL:https://www.winkleremmc.com/event/jr-youth-64/
END:VEVENT
BEGIN:VEVENT
DTSTART;TZID=America/Winnipeg:20250211T190000
DTEND;TZID=America/Winnipeg:20250211T190000
DTSTAMP:20260424T091845
CREATED:20250123T154658Z
LAST-MODIFIED:20250123T154658Z
UID:13088-1739300400-1739300400@www.winkleremmc.com
SUMMARY:Administration Com Mtg
DESCRIPTION:
URL:https://www.winkleremmc.com/event/administration-com-mtg-4/
END:VEVENT
BEGIN:VEVENT
DTSTART;TZID=America/Winnipeg:20250211T190000
DTEND;TZID=America/Winnipeg:20250211T190000
DTSTAMP:20260424T091845
CREATED:20250123T154718Z
LAST-MODIFIED:20250123T154718Z
UID:13090-1739300400-1739300400@www.winkleremmc.com
SUMMARY:Worship Com Mtg
DESCRIPTION:
URL:https://www.winkleremmc.com/event/worship-com-mtg-12/
END:VEVENT
BEGIN:VEVENT
DTSTART;TZID=America/Winnipeg:20250213T190000
DTEND;TZID=America/Winnipeg:20250213T190000
DTSTAMP:20260424T091845
CREATED:20250123T154938Z
LAST-MODIFIED:20250123T154938Z
UID:13100-1739473200-1739473200@www.winkleremmc.com
SUMMARY:Sr. Youth
DESCRIPTION:
URL:https://www.winkleremmc.com/event/sr-youth-70/
END:VEVENT
BEGIN:VEVENT
DTSTART;VALUE=DATE:20250215
DTEND;VALUE=DATE:20250216
DTSTAMP:20260424T091845
CREATED:20250123T155124Z
LAST-MODIFIED:20250123T155124Z
UID:13110-1739577600-1739663999@www.winkleremmc.com
SUMMARY:Fellowship Hall Booking
DESCRIPTION:
URL:https://www.winkleremmc.com/event/fellowship-hall-booking-4/
END:VEVENT
BEGIN:VEVENT
DTSTART;VALUE=DATE:20250216
DTEND;VALUE=DATE:20250217
DTSTAMP:20260424T091845
CREATED:20250123T154019Z
LAST-MODIFIED:20250123T154019Z
UID:13054-1739664000-1739750399@www.winkleremmc.com
SUMMARY:NO Sunday School
DESCRIPTION:
URL:https://www.winkleremmc.com/event/no-sunday-school-16/
END:VEVENT
BEGIN:VEVENT
DTSTART;TZID=America/Winnipeg:20250216T103000
DTEND;TZID=America/Winnipeg:20250216T103000
DTSTAMP:20260424T091845
CREATED:20250123T154153Z
LAST-MODIFIED:20250123T154153Z
UID:13062-1739701800-1739701800@www.winkleremmc.com
SUMMARY:Worship Service
DESCRIPTION:
URL:https://www.winkleremmc.com/event/worship-service-77/
END:VEVENT
BEGIN:VEVENT
DTSTART;VALUE=DATE:20250217
DTEND;VALUE=DATE:20250218
DTSTAMP:20260424T091845
CREATED:20250123T154611Z
LAST-MODIFIED:20250123T154611Z
UID:13084-1739750400-1739836799@www.winkleremmc.com
SUMMARY:Louis Riel Day - Offices Closed
DESCRIPTION:
URL:https://www.winkleremmc.com/event/louis-riel-day-offices-closed-3/
END:VEVENT
BEGIN:VEVENT
DTSTART;TZID=America/Winnipeg:20250218T093000
DTEND;TZID=America/Winnipeg:20250218T093000
DTSTAMP:20260424T091845
CREATED:20250123T154742Z
LAST-MODIFIED:20250123T154742Z
UID:13092-1739871000-1739871000@www.winkleremmc.com
SUMMARY:Mom's Morning Stay & Play
DESCRIPTION:
URL:https://www.winkleremmc.com/event/moms-morning-stay-play-2/
END:VEVENT
BEGIN:VEVENT
DTSTART;TZID=America/Winnipeg:20250218T190000
DTEND;TZID=America/Winnipeg:20250218T190000
DTSTAMP:20260424T091845
CREATED:20250123T154807Z
LAST-MODIFIED:20250123T154807Z
UID:13094-1739905200-1739905200@www.winkleremmc.com
SUMMARY:Church Council Mtg
DESCRIPTION:
URL:https://www.winkleremmc.com/event/church-council-mtg-19/
END:VEVENT
BEGIN:VEVENT
DTSTART;TZID=America/Winnipeg:20250220T190000
DTEND;TZID=America/Winnipeg:20250220T190000
DTSTAMP:20260424T091845
CREATED:20250123T154957Z
LAST-MODIFIED:20250123T154957Z
UID:13102-1740078000-1740078000@www.winkleremmc.com
SUMMARY:Sr. Youth
DESCRIPTION:
URL:https://www.winkleremmc.com/event/sr-youth-71/
END:VEVENT
BEGIN:VEVENT
DTSTART;TZID=America/Winnipeg:20250221T190000
DTEND;TZID=America/Winnipeg:20250221T190000
DTSTAMP:20260424T091845
CREATED:20250123T155106Z
LAST-MODIFIED:20250123T155106Z
UID:13108-1740164400-1740164400@www.winkleremmc.com
SUMMARY:Young Adults
DESCRIPTION:
URL:https://www.winkleremmc.com/event/young-adults-14/
END:VEVENT
BEGIN:VEVENT
DTSTART;TZID=America/Winnipeg:20250223T090000
DTEND;TZID=America/Winnipeg:20250223T090000
DTSTAMP:20260424T091845
CREATED:20250123T154040Z
LAST-MODIFIED:20250123T154040Z
UID:13056-1740301200-1740301200@www.winkleremmc.com
SUMMARY:Sunday School
DESCRIPTION:
URL:https://www.winkleremmc.com/event/sunday-school-55/
END:VEVENT
BEGIN:VEVENT
DTSTART;TZID=America/Winnipeg:20250223T103000
DTEND;TZID=America/Winnipeg:20250223T103000
DTSTAMP:20260424T091845
CREATED:20250123T154213Z
LAST-MODIFIED:20250123T154213Z
UID:13064-1740306600-1740306600@www.winkleremmc.com
SUMMARY:Worship Service
DESCRIPTION:
URL:https://www.winkleremmc.com/event/worship-service-78/
END:VEVENT
BEGIN:VEVENT
DTSTART;TZID=America/Winnipeg:20250224T093000
DTEND;TZID=America/Winnipeg:20250224T093000
DTSTAMP:20260424T091845
CREATED:20250123T154442Z
LAST-MODIFIED:20250123T154442Z
UID:13076-1740389400-1740389400@www.winkleremmc.com
SUMMARY:WOW Bible Study
DESCRIPTION:
URL:https://www.winkleremmc.com/event/wow-bible-study-47/
END:VEVENT
BEGIN:VEVENT
DTSTART;TZID=America/Winnipeg:20250224T190000
DTEND;TZID=America/Winnipeg:20250224T190000
DTSTAMP:20260424T091845
CREATED:20250123T154503Z
LAST-MODIFIED:20250123T154503Z
UID:13078-1740423600-1740423600@www.winkleremmc.com
SUMMARY:WOW Bible Study
DESCRIPTION:
URL:https://www.winkleremmc.com/event/wow-bible-study-48/
END:VEVENT
BEGIN:VEVENT
DTSTART;TZID=America/Winnipeg:20250224T190000
DTEND;TZID=America/Winnipeg:20250224T190000
DTSTAMP:20260424T091845
CREATED:20250123T154547Z
LAST-MODIFIED:20250123T154547Z
UID:13082-1740423600-1740423600@www.winkleremmc.com
SUMMARY:Jr. Youth
DESCRIPTION:
URL:https://www.winkleremmc.com/event/jr-youth-65/
END:VEVENT
END:VCALENDAR