BEGIN:VCALENDAR
VERSION:2.0
PRODID:-//Winkler EMMC - ECPv6.15.10//NONSGML v1.0//EN
CALSCALE:GREGORIAN
METHOD:PUBLISH
X-ORIGINAL-URL:https://www.winkleremmc.com
X-WR-CALDESC:Events for Winkler EMMC
REFRESH-INTERVAL;VALUE=DURATION:PT1H
X-Robots-Tag:noindex
X-PUBLISHED-TTL:PT1H
BEGIN:VTIMEZONE
TZID:America/Winnipeg
BEGIN:DAYLIGHT
TZOFFSETFROM:-0600
TZOFFSETTO:-0500
TZNAME:CDT
DTSTART:20230312T080000
END:DAYLIGHT
BEGIN:STANDARD
TZOFFSETFROM:-0500
TZOFFSETTO:-0600
TZNAME:CST
DTSTART:20231105T070000
END:STANDARD
BEGIN:DAYLIGHT
TZOFFSETFROM:-0600
TZOFFSETTO:-0500
TZNAME:CDT
DTSTART:20240310T080000
END:DAYLIGHT
BEGIN:STANDARD
TZOFFSETFROM:-0500
TZOFFSETTO:-0600
TZNAME:CST
DTSTART:20241103T070000
END:STANDARD
BEGIN:DAYLIGHT
TZOFFSETFROM:-0600
TZOFFSETTO:-0500
TZNAME:CDT
DTSTART:20250309T080000
END:DAYLIGHT
BEGIN:STANDARD
TZOFFSETFROM:-0500
TZOFFSETTO:-0600
TZNAME:CST
DTSTART:20251102T070000
END:STANDARD
END:VTIMEZONE
BEGIN:VEVENT
DTSTART;TZID=America/Winnipeg:20241201T090000
DTEND;TZID=America/Winnipeg:20241201T090000
DTSTAMP:20260424T123147
CREATED:20241120T170852Z
LAST-MODIFIED:20241120T170852Z
UID:12781-1733043600-1733043600@www.winkleremmc.com
SUMMARY:Renew(ed) for parents & caregivers
DESCRIPTION:
URL:https://www.winkleremmc.com/event/renewed-for-parents-caregivers-7/
END:VEVENT
BEGIN:VEVENT
DTSTART;TZID=America/Winnipeg:20241201T090000
DTEND;TZID=America/Winnipeg:20241201T090000
DTSTAMP:20260424T123147
CREATED:20241120T170932Z
LAST-MODIFIED:20241120T170932Z
UID:12783-1733043600-1733043600@www.winkleremmc.com
SUMMARY:Sunday School (No Adult Sunday School)
DESCRIPTION:
URL:https://www.winkleremmc.com/event/sunday-school-no-adult-sunday-school-3/
END:VEVENT
BEGIN:VEVENT
DTSTART;TZID=America/Winnipeg:20241201T103000
DTEND;TZID=America/Winnipeg:20241201T103000
DTSTAMP:20260424T123147
CREATED:20241120T171120Z
LAST-MODIFIED:20241120T171120Z
UID:12791-1733049000-1733049000@www.winkleremmc.com
SUMMARY:Worship Service
DESCRIPTION:
URL:https://www.winkleremmc.com/event/worship-service-67/
END:VEVENT
BEGIN:VEVENT
DTSTART;TZID=America/Winnipeg:20241202T190000
DTEND;TZID=America/Winnipeg:20241202T190000
DTSTAMP:20260424T123147
CREATED:20241120T171254Z
LAST-MODIFIED:20241120T171254Z
UID:12799-1733166000-1733166000@www.winkleremmc.com
SUMMARY:Jr. Youth
DESCRIPTION:
URL:https://www.winkleremmc.com/event/jr-youth-60/
END:VEVENT
BEGIN:VEVENT
DTSTART;TZID=America/Winnipeg:20241203T173000
DTEND;TZID=America/Winnipeg:20241203T173000
DTSTAMP:20260424T123147
CREATED:20241023T185835Z
LAST-MODIFIED:20241120T170754Z
UID:12744-1733247000-1733247000@www.winkleremmc.com
SUMMARY:50 Plus Christmas Supper
DESCRIPTION:50 Plus Supper\, Tuesday\, Dec. 3\, 5:30 p.m.\, in the Fellowship Hall. Invitation to all seniors for a Christmas dinner. Invite a friend. Come enjoy food and fellowship. Please sign up on the sheets provided in the foyer. Donations to help cover costs are welcome. If you have questions\, you may contact the church office or Verna Towarnicki at 204-325-8456. Please check on the sign-up sheet if a ride is needed or if you are willing to provide a ride.
URL:https://www.winkleremmc.com/event/50-plus-christmas-supper/
END:VEVENT
BEGIN:VEVENT
DTSTART;TZID=America/Winnipeg:20241203T190000
DTEND;TZID=America/Winnipeg:20241203T190000
DTSTAMP:20260424T123147
CREATED:20241120T171449Z
LAST-MODIFIED:20241120T171449Z
UID:12805-1733252400-1733252400@www.winkleremmc.com
SUMMARY:Mission Com Mtg
DESCRIPTION:
URL:https://www.winkleremmc.com/event/mission-com-mtg-20/
END:VEVENT
BEGIN:VEVENT
DTSTART;TZID=America/Winnipeg:20241205T190000
DTEND;TZID=America/Winnipeg:20241205T190000
DTSTAMP:20260424T123147
CREATED:20241120T172017Z
LAST-MODIFIED:20241120T172017Z
UID:12819-1733425200-1733425200@www.winkleremmc.com
SUMMARY:Sr. Youth
DESCRIPTION:
URL:https://www.winkleremmc.com/event/sr-youth-63/
END:VEVENT
BEGIN:VEVENT
DTSTART;TZID=America/Winnipeg:20241207T100000
DTEND;TZID=America/Winnipeg:20241207T100000
DTSTAMP:20260424T123147
CREATED:20241120T172225Z
LAST-MODIFIED:20241120T172225Z
UID:12829-1733565600-1733565600@www.winkleremmc.com
SUMMARY:Sunday School Christmas Program Rehearsal
DESCRIPTION:
URL:https://www.winkleremmc.com/event/sunday-school-christmas-program-rehearsal/
END:VEVENT
BEGIN:VEVENT
DTSTART;TZID=America/Winnipeg:20241208T090000
DTEND;TZID=America/Winnipeg:20241208T090000
DTSTAMP:20260424T123147
CREATED:20241120T171003Z
LAST-MODIFIED:20241120T171003Z
UID:12785-1733648400-1733648400@www.winkleremmc.com
SUMMARY:Sunday School
DESCRIPTION:
URL:https://www.winkleremmc.com/event/sunday-school-49/
END:VEVENT
BEGIN:VEVENT
DTSTART;TZID=America/Winnipeg:20241208T103000
DTEND;TZID=America/Winnipeg:20241208T103000
DTSTAMP:20260424T123147
CREATED:20241023T185906Z
LAST-MODIFIED:20241023T185906Z
UID:12746-1733653800-1733653800@www.winkleremmc.com
SUMMARY:Sunday School Christmas Program
DESCRIPTION:
URL:https://www.winkleremmc.com/event/sunday-school-christmas-program/
END:VEVENT
BEGIN:VEVENT
DTSTART;VALUE=DATE:20241209
DTEND;VALUE=DATE:20241210
DTSTAMP:20260424T123147
CREATED:20241120T171759Z
LAST-MODIFIED:20241120T171759Z
UID:12811-1733702400-1733788799@www.winkleremmc.com
SUMMARY:J.R. Walkof School Rehearsals
DESCRIPTION:
URL:https://www.winkleremmc.com/event/j-r-walkof-school-rehearsals-2/
END:VEVENT
BEGIN:VEVENT
DTSTART;TZID=America/Winnipeg:20241209T190000
DTEND;TZID=America/Winnipeg:20241209T190000
DTSTAMP:20260424T123147
CREATED:20241120T171316Z
LAST-MODIFIED:20241120T171316Z
UID:12801-1733770800-1733770800@www.winkleremmc.com
SUMMARY:Jr. Youth
DESCRIPTION:
URL:https://www.winkleremmc.com/event/jr-youth-61/
END:VEVENT
BEGIN:VEVENT
DTSTART;VALUE=DATE:20241210
DTEND;VALUE=DATE:20241211
DTSTAMP:20260424T123147
CREATED:20241120T171842Z
LAST-MODIFIED:20241120T171842Z
UID:12813-1733788800-1733875199@www.winkleremmc.com
SUMMARY:J.R. Walkof School Christmas Rehearsals & Program
DESCRIPTION:
URL:https://www.winkleremmc.com/event/j-r-walkof-school-christmas-rehearsals-program/
END:VEVENT
BEGIN:VEVENT
DTSTART;VALUE=DATE:20241210
DTEND;VALUE=DATE:20241213
DTSTAMP:20260424T123147
CREATED:20241120T171922Z
LAST-MODIFIED:20241120T171922Z
UID:12815-1733788800-1734047999@www.winkleremmc.com
SUMMARY:KKNS Christmas Programs
DESCRIPTION:
URL:https://www.winkleremmc.com/event/kkns-christmas-programs/
END:VEVENT
BEGIN:VEVENT
DTSTART;TZID=America/Winnipeg:20241210T190000
DTEND;TZID=America/Winnipeg:20241210T190000
DTSTAMP:20260424T123147
CREATED:20241120T171708Z
LAST-MODIFIED:20241120T171708Z
UID:12807-1733857200-1733857200@www.winkleremmc.com
SUMMARY:Administration Com Mtg
DESCRIPTION:
URL:https://www.winkleremmc.com/event/administration-com-mtg-2/
END:VEVENT
BEGIN:VEVENT
DTSTART;TZID=America/Winnipeg:20241210T190000
DTEND;TZID=America/Winnipeg:20241210T190000
DTSTAMP:20260424T123147
CREATED:20241120T171735Z
LAST-MODIFIED:20241120T171735Z
UID:12809-1733857200-1733857200@www.winkleremmc.com
SUMMARY:Worship Com Meeting
DESCRIPTION:
URL:https://www.winkleremmc.com/event/worship-com-meeting/
END:VEVENT
BEGIN:VEVENT
DTSTART;TZID=America/Winnipeg:20241212T190000
DTEND;TZID=America/Winnipeg:20241212T190000
DTSTAMP:20260424T123147
CREATED:20241120T172039Z
LAST-MODIFIED:20241120T172039Z
UID:12821-1734030000-1734030000@www.winkleremmc.com
SUMMARY:Sr. Youth
DESCRIPTION:
URL:https://www.winkleremmc.com/event/sr-youth-64/
END:VEVENT
BEGIN:VEVENT
DTSTART;TZID=America/Winnipeg:20241213T180000
DTEND;TZID=America/Winnipeg:20241213T180000
DTSTAMP:20260424T123147
CREATED:20241120T172153Z
LAST-MODIFIED:20241206T151032Z
UID:12827-1734112800-1734112800@www.winkleremmc.com
SUMMARY:Young Adults Christmas Party
DESCRIPTION:
URL:https://www.winkleremmc.com/event/young-adults-10/
END:VEVENT
BEGIN:VEVENT
DTSTART;VALUE=DATE:20241214
DTEND;VALUE=DATE:20241215
DTSTAMP:20260424T123147
CREATED:20241120T172243Z
LAST-MODIFIED:20241120T172243Z
UID:12831-1734134400-1734220799@www.winkleremmc.com
SUMMARY:Fellowship Hall Rental
DESCRIPTION:
URL:https://www.winkleremmc.com/event/fellowship-hall-rental-5/
END:VEVENT
BEGIN:VEVENT
DTSTART;TZID=America/Winnipeg:20241215T090000
DTEND;TZID=America/Winnipeg:20241215T090000
DTSTAMP:20260424T123147
CREATED:20241023T185933Z
LAST-MODIFIED:20241023T185933Z
UID:12748-1734253200-1734253200@www.winkleremmc.com
SUMMARY:Sunday School Christmas Party
DESCRIPTION:
URL:https://www.winkleremmc.com/event/sunday-school-christmas-party-2/
END:VEVENT
BEGIN:VEVENT
DTSTART;TZID=America/Winnipeg:20241215T103000
DTEND;TZID=America/Winnipeg:20241215T103000
DTSTAMP:20260424T123147
CREATED:20241120T171143Z
LAST-MODIFIED:20241120T171143Z
UID:12793-1734258600-1734258600@www.winkleremmc.com
SUMMARY:Worship Service
DESCRIPTION:
URL:https://www.winkleremmc.com/event/worship-service-68/
END:VEVENT
BEGIN:VEVENT
DTSTART;TZID=America/Winnipeg:20241216T180000
DTEND;TZID=America/Winnipeg:20241216T180000
DTSTAMP:20260424T123147
CREATED:20241120T171416Z
LAST-MODIFIED:20241120T171416Z
UID:12803-1734372000-1734372000@www.winkleremmc.com
SUMMARY:Jr. Youth Christmas Party
DESCRIPTION:
URL:https://www.winkleremmc.com/event/jr-youth-christmas-party-3/
END:VEVENT
BEGIN:VEVENT
DTSTART;TZID=America/Winnipeg:20241219T180000
DTEND;TZID=America/Winnipeg:20241219T180000
DTSTAMP:20260424T123147
CREATED:20241120T172104Z
LAST-MODIFIED:20241120T172104Z
UID:12823-1734631200-1734631200@www.winkleremmc.com
SUMMARY:Sr. Youth Christmas Party
DESCRIPTION:
URL:https://www.winkleremmc.com/event/sr-youth-christmas-party-2/
END:VEVENT
BEGIN:VEVENT
DTSTART;VALUE=DATE:20241222
DTEND;VALUE=DATE:20241223
DTSTAMP:20260424T123147
CREATED:20241120T171040Z
LAST-MODIFIED:20241120T171040Z
UID:12787-1734825600-1734911999@www.winkleremmc.com
SUMMARY:No Sunday School
DESCRIPTION:
URL:https://www.winkleremmc.com/event/no-sunday-school-14/
END:VEVENT
BEGIN:VEVENT
DTSTART;TZID=America/Winnipeg:20241222T103000
DTEND;TZID=America/Winnipeg:20241222T103000
DTSTAMP:20260424T123147
CREATED:20241120T171206Z
LAST-MODIFIED:20241120T171206Z
UID:12795-1734863400-1734863400@www.winkleremmc.com
SUMMARY:Worship Service
DESCRIPTION:
URL:https://www.winkleremmc.com/event/worship-service-69/
END:VEVENT
BEGIN:VEVENT
DTSTART;TZID=America/Winnipeg:20241225T103000
DTEND;TZID=America/Winnipeg:20241225T103000
DTSTAMP:20260424T123147
CREATED:20241120T171950Z
LAST-MODIFIED:20241120T171950Z
UID:12817-1735122600-1735122600@www.winkleremmc.com
SUMMARY:Christmas Day Service
DESCRIPTION:
URL:https://www.winkleremmc.com/event/christmas-day-service/
END:VEVENT
BEGIN:VEVENT
DTSTART;VALUE=DATE:20241226
DTEND;VALUE=DATE:20241227
DTSTAMP:20260424T123147
CREATED:20241120T172125Z
LAST-MODIFIED:20241120T172125Z
UID:12825-1735171200-1735257599@www.winkleremmc.com
SUMMARY:Boxing Day - Offices Closed
DESCRIPTION:
URL:https://www.winkleremmc.com/event/boxing-day-offices-closed-3/
END:VEVENT
BEGIN:VEVENT
DTSTART;VALUE=DATE:20241229
DTEND;VALUE=DATE:20241230
DTSTAMP:20260424T123147
CREATED:20241120T171054Z
LAST-MODIFIED:20241120T171054Z
UID:12789-1735430400-1735516799@www.winkleremmc.com
SUMMARY:No Sunday School
DESCRIPTION:
URL:https://www.winkleremmc.com/event/no-sunday-school-15/
END:VEVENT
BEGIN:VEVENT
DTSTART;TZID=America/Winnipeg:20241229T103000
DTEND;TZID=America/Winnipeg:20241229T103000
DTSTAMP:20260424T123147
CREATED:20241120T171228Z
LAST-MODIFIED:20241120T171228Z
UID:12797-1735468200-1735468200@www.winkleremmc.com
SUMMARY:Worship Service
DESCRIPTION:
URL:https://www.winkleremmc.com/event/worship-service-70/
END:VEVENT
END:VCALENDAR