BEGIN:VCALENDAR
VERSION:2.0
PRODID:-//Winkler EMMC - ECPv6.15.10//NONSGML v1.0//EN
CALSCALE:GREGORIAN
METHOD:PUBLISH
X-ORIGINAL-URL:https://www.winkleremmc.com
X-WR-CALDESC:Events for Winkler EMMC
REFRESH-INTERVAL;VALUE=DURATION:PT1H
X-Robots-Tag:noindex
X-PUBLISHED-TTL:PT1H
BEGIN:VTIMEZONE
TZID:America/Winnipeg
BEGIN:DAYLIGHT
TZOFFSETFROM:-0600
TZOFFSETTO:-0500
TZNAME:CDT
DTSTART:20230312T080000
END:DAYLIGHT
BEGIN:STANDARD
TZOFFSETFROM:-0500
TZOFFSETTO:-0600
TZNAME:CST
DTSTART:20231105T070000
END:STANDARD
BEGIN:DAYLIGHT
TZOFFSETFROM:-0600
TZOFFSETTO:-0500
TZNAME:CDT
DTSTART:20240310T080000
END:DAYLIGHT
BEGIN:STANDARD
TZOFFSETFROM:-0500
TZOFFSETTO:-0600
TZNAME:CST
DTSTART:20241103T070000
END:STANDARD
BEGIN:DAYLIGHT
TZOFFSETFROM:-0600
TZOFFSETTO:-0500
TZNAME:CDT
DTSTART:20250309T080000
END:DAYLIGHT
BEGIN:STANDARD
TZOFFSETFROM:-0500
TZOFFSETTO:-0600
TZNAME:CST
DTSTART:20251102T070000
END:STANDARD
END:VTIMEZONE
BEGIN:VEVENT
DTSTART;TZID=America/Winnipeg:20240602T090000
DTEND;TZID=America/Winnipeg:20240602T090000
DTSTAMP:20260424T232438
CREATED:20240522T155907Z
LAST-MODIFIED:20240522T155907Z
UID:12286-1717318800-1717318800@www.winkleremmc.com
SUMMARY:Sunday School
DESCRIPTION:
URL:https://www.winkleremmc.com/event/sunday-school-41/
END:VEVENT
BEGIN:VEVENT
DTSTART;TZID=America/Winnipeg:20240602T103000
DTEND;TZID=America/Winnipeg:20240602T103000
DTSTAMP:20260424T232438
CREATED:20240522T160028Z
LAST-MODIFIED:20240522T160028Z
UID:12288-1717324200-1717324200@www.winkleremmc.com
SUMMARY:Worship/Communion Service
DESCRIPTION:
URL:https://www.winkleremmc.com/event/worship-communion-service/
END:VEVENT
BEGIN:VEVENT
DTSTART;TZID=America/Winnipeg:20240604T173000
DTEND;TZID=America/Winnipeg:20240604T173000
DTSTAMP:20260424T232438
CREATED:20240424T161749Z
LAST-MODIFIED:20240522T155821Z
UID:12252-1717522200-1717522200@www.winkleremmc.com
SUMMARY:50 Plus BBQ
DESCRIPTION:
URL:https://www.winkleremmc.com/event/50-plus-bbq/
END:VEVENT
BEGIN:VEVENT
DTSTART;TZID=America/Winnipeg:20240604T190000
DTEND;TZID=America/Winnipeg:20240604T190000
DTSTAMP:20260424T232438
CREATED:20240522T160535Z
LAST-MODIFIED:20240522T160535Z
UID:12304-1717527600-1717527600@www.winkleremmc.com
SUMMARY:Mission Com Mtg
DESCRIPTION:
URL:https://www.winkleremmc.com/event/mission-com-mtg-16/
END:VEVENT
BEGIN:VEVENT
DTSTART;TZID=America/Winnipeg:20240606T180000
DTEND;TZID=America/Winnipeg:20240606T180000
DTSTAMP:20260424T232438
CREATED:20240522T160714Z
LAST-MODIFIED:20240527T164413Z
UID:12312-1717696800-1717696800@www.winkleremmc.com
SUMMARY:Sr. Youth Wind-Up
DESCRIPTION:Sr. Youth Wind-up – Thursday\, June 6\, 6:00 – 9:00 p.m..\nLocation: 14 Creekside Drive\, Hochfeld. Bus transportation provided for those who want it. (Leaves the HUT at 5:45 pm\, Leaves Hochfeld at 9 pm) Burgers\, etc. provided for supper\, games\, fireside\, Bomber game & more. NO cost. Bring a lawn chair if you’d like one.
URL:https://www.winkleremmc.com/event/sr-youth-wind-up-2/
END:VEVENT
BEGIN:VEVENT
DTSTART;TZID=America/Winnipeg:20240607T190000
DTEND;TZID=America/Winnipeg:20240607T190000
DTSTAMP:20260424T232438
CREATED:20240522T160738Z
LAST-MODIFIED:20240522T160738Z
UID:12314-1717786800-1717786800@www.winkleremmc.com
SUMMARY:Young Adults
DESCRIPTION:
URL:https://www.winkleremmc.com/event/young-adults-3/
END:VEVENT
BEGIN:VEVENT
DTSTART;TZID=America/Winnipeg:20240609T093000
DTEND;TZID=America/Winnipeg:20240609T093000
DTSTAMP:20260424T232438
CREATED:20240424T161925Z
LAST-MODIFIED:20240424T161925Z
UID:12256-1717925400-1717925400@www.winkleremmc.com
SUMMARY:KidMin & Sunday School Wind-Up
DESCRIPTION:
URL:https://www.winkleremmc.com/event/kidmin-sunday-school-wind-up/
END:VEVENT
BEGIN:VEVENT
DTSTART;TZID=America/Winnipeg:20240609T103000
DTEND;TZID=America/Winnipeg:20240609T103000
DTSTAMP:20260424T232438
CREATED:20240522T160106Z
LAST-MODIFIED:20240522T160106Z
UID:12290-1717929000-1717929000@www.winkleremmc.com
SUMMARY:Worship Service
DESCRIPTION:
URL:https://www.winkleremmc.com/event/worship-service-44/
END:VEVENT
BEGIN:VEVENT
DTSTART;TZID=America/Winnipeg:20240610T180000
DTEND;TZID=America/Winnipeg:20240610T180000
DTSTAMP:20260424T232438
CREATED:20240522T160440Z
LAST-MODIFIED:20240527T164317Z
UID:12300-1718042400-1718042400@www.winkleremmc.com
SUMMARY:Jr. Youth Wind-Up
DESCRIPTION:Jr. Youth Wind-up-Monday\, June 10\, 6:00 – 9:00 p.m.. ***Note: NOT on June 3 anymore***\nLocation: Stanley Park\, Shelter 2. No transportation provided. If you need a ride\, talk to a small group leader. Burgers\, etc. provided for supper\, games\, fireside & more. NO cost. Bring a lawn chair if you’d like one.
URL:https://www.winkleremmc.com/event/jr-youth-wind-up-2/
END:VEVENT
BEGIN:VEVENT
DTSTART;TZID=America/Winnipeg:20240611T190000
DTEND;TZID=America/Winnipeg:20240611T190000
DTSTAMP:20260424T232438
CREATED:20240522T160602Z
LAST-MODIFIED:20240522T160602Z
UID:12306-1718132400-1718132400@www.winkleremmc.com
SUMMARY:Worship Com Mtg
DESCRIPTION:
URL:https://www.winkleremmc.com/event/worship-com-mtg-7/
END:VEVENT
BEGIN:VEVENT
DTSTART;TZID=America/Winnipeg:20240611T190000
DTEND;TZID=America/Winnipeg:20240611T190000
DTSTAMP:20260424T232438
CREATED:20240522T160627Z
LAST-MODIFIED:20240522T160627Z
UID:12308-1718132400-1718132400@www.winkleremmc.com
SUMMARY:B&A Com Mtg
DESCRIPTION:
URL:https://www.winkleremmc.com/event/ba-com-mtg-4/
END:VEVENT
BEGIN:VEVENT
DTSTART;TZID=America/Winnipeg:20240613T070000
DTEND;TZID=America/Winnipeg:20240613T070000
DTSTAMP:20260424T232438
CREATED:20240522T162558Z
LAST-MODIFIED:20240522T162558Z
UID:12322-1718262000-1718262000@www.winkleremmc.com
SUMMARY:Men's Breakfast at Smitty's
DESCRIPTION:
URL:https://www.winkleremmc.com/event/mens-breakfast-at-smittys-5/
END:VEVENT
BEGIN:VEVENT
DTSTART;TZID=America/Winnipeg:20240616T103000
DTEND;TZID=America/Winnipeg:20240616T103000
DTSTAMP:20260424T232438
CREATED:20240522T160132Z
LAST-MODIFIED:20240522T160132Z
UID:12292-1718533800-1718533800@www.winkleremmc.com
SUMMARY:Worship Service
DESCRIPTION:
URL:https://www.winkleremmc.com/event/worship-service-45/
END:VEVENT
BEGIN:VEVENT
DTSTART;TZID=America/Winnipeg:20240617T190000
DTEND;TZID=America/Winnipeg:20240617T190000
DTSTAMP:20260424T232438
CREATED:20240522T160509Z
LAST-MODIFIED:20240522T160509Z
UID:12302-1718650800-1718650800@www.winkleremmc.com
SUMMARY:Church/Youth Skeet Night
DESCRIPTION:
URL:https://www.winkleremmc.com/event/church-youth-skeet-night-2/
END:VEVENT
BEGIN:VEVENT
DTSTART;TZID=America/Winnipeg:20240618T190000
DTEND;TZID=America/Winnipeg:20240618T190000
DTSTAMP:20260424T232438
CREATED:20240522T160651Z
LAST-MODIFIED:20240522T160651Z
UID:12310-1718737200-1718737200@www.winkleremmc.com
SUMMARY:Church Council Mtg
DESCRIPTION:
URL:https://www.winkleremmc.com/event/church-council-mtg-14/
END:VEVENT
BEGIN:VEVENT
DTSTART;TZID=America/Winnipeg:20240621T190000
DTEND;TZID=America/Winnipeg:20240621T190000
DTSTAMP:20260424T232438
CREATED:20240522T160804Z
LAST-MODIFIED:20240522T160804Z
UID:12316-1718996400-1718996400@www.winkleremmc.com
SUMMARY:Young Adults
DESCRIPTION:
URL:https://www.winkleremmc.com/event/young-adults-4/
END:VEVENT
BEGIN:VEVENT
DTSTART;TZID=America/Winnipeg:20240623T090000
DTEND;TZID=America/Winnipeg:20240623T090000
DTSTAMP:20260424T232438
CREATED:20240522T165653Z
LAST-MODIFIED:20240522T165653Z
UID:12324-1719133200-1719133200@www.winkleremmc.com
SUMMARY:Membership Meeting re Sponsorship in the Chapel
DESCRIPTION:
URL:https://www.winkleremmc.com/event/membership-meeting-re-sponsorship-in-the-chapel/
END:VEVENT
BEGIN:VEVENT
DTSTART;TZID=America/Winnipeg:20240623T103000
DTEND;TZID=America/Winnipeg:20240623T103000
DTSTAMP:20260424T232438
CREATED:20240522T160155Z
LAST-MODIFIED:20240522T160155Z
UID:12294-1719138600-1719138600@www.winkleremmc.com
SUMMARY:Worship Service
DESCRIPTION:
URL:https://www.winkleremmc.com/event/worship-service-46/
END:VEVENT
BEGIN:VEVENT
DTSTART;TZID=America/Winnipeg:20240630T103000
DTEND;TZID=America/Winnipeg:20240630T103000
DTSTAMP:20260424T232438
CREATED:20240522T160220Z
LAST-MODIFIED:20240522T160220Z
UID:12296-1719743400-1719743400@www.winkleremmc.com
SUMMARY:Worship Service
DESCRIPTION:
URL:https://www.winkleremmc.com/event/worship-service-47/
END:VEVENT
END:VCALENDAR